BEGIN:VCALENDAR
PRODID:-//Tendenci - The Open Source AMS for Associations//Tendenci Codebase 12 MIMEDIR//EN
VERSION:2.0
METHOD:PUBLISH
BEGIN:VEVENT
DTSTAMP:20260421T085151Z
ORGANIZER:
DTSTART:20230825T050000Z
DTEND:20230825T063000Z
LOCATION:
TRANSP:OPAQUE
SEQUENCE:0
UID:uid1754@portal.momsforliberty.org
DESCRIPTION:--- This iCal file does *NOT* confirm registration.\r\nEvent details subject to change. ---\r\nhttps://portal.momsforliberty.org/events/1754/\r\n\r\nEvent Title: Moms for Liberty Williamson County, TX August Chapter Meeting\r\nStart Date / Time: Aug 25, 2023 00:00 AM US/Central\r\nLocation: \r\nIt's a new school year, and Constitution Week is just around the corner.  Join us as we educate the community on Celebrate Freedom Week and what the Texas Education Code says about teaching the Declaration of Independence and the US Constitution to children.  \r\n --- This iCal file does *NOT* confirm registration.Event details subject to change. ---\r\n\r\n--- By Tendenci - The Open Source AMS for Associations ---\r\n
X-ALT-DESC;FMTTYPE=text/html:<div>--- This iCal file does *NOT* confirm registration.Event details subject to change. ---</div><h1>Event Title: Moms for Liberty Williamson County, TX August Chapter Meeting</h1><div>https://portal.momsforliberty.org/events/1754/</div><br /><div>When: Aug 25, 2023 00:00 AM US/Central</div><br /><div><p>It's a new school year, and Constitution Week is just around the corner. &nbsp\;Join us as we educate the community on Celebrate Freedom Week and what the Texas Education Code says about teaching the Declaration of Independence and the US Constitution to children. &nbsp\;</p>
<p>&nbsp\;</p></div><div>--- This iCal file does *NOT* confirm registration.Event details subject to change. ---</div><div>--- Tendenci&reg\; Software by <a href="https://www.tendenci.com">tendenci.com</a> - The Open Source AMS for Associations ---</div>
SUMMARY:Moms for Liberty Williamson County, TX August Chapter Meeting
PRIORITY:5
CLASS:PUBLIC
BEGIN:VALARM
TRIGGER:-PT30M
ACTION:DISPLAY
DESCRIPTION:Reminder
END:VALARM
END:VEVENT
END:VCALENDAR
