BEGIN:VCALENDAR
PRODID:-//Tendenci - The Open Source AMS for Associations//Tendenci Codebase 12 MIMEDIR//EN
VERSION:2.0
METHOD:PUBLISH
BEGIN:VEVENT
DTSTAMP:20260421T075150Z
ORGANIZER:
DTSTART:20230802T033000Z
DTEND:20230802T050000Z
LOCATION:Oakhill Evangelical Presbyterian Church
TRANSP:OPAQUE
SEQUENCE:0
UID:uid1759@portal.momsforliberty.org
DESCRIPTION:--- This iCal file does *NOT* confirm registration.\r\nEvent details subject to change. ---\r\nhttps://portal.momsforliberty.org/events/1759/\r\n\r\nEvent Title: Kent County MI Chapter Meeting\r\nStart Date / Time: Aug 01, 2023 23:30 PM US/Eastern\r\nLocation: Oakhill Evangelical Presbyterian Church\r\nSpeaker: Garrett Soldano\r\nGoogle\r\nhttp://maps.google.com/maps?q=1930+Leonard+St+NE,Grand Rapids,MI,49505\r\n\r\nForecast\nhttp://www.weather.com/weather/monthly/49505\r\n\r\nThe Moms for Liberty Kent County MI Chapter Meeting is held the first Tuesday of every month from 6:30 p.m. to 8:00 p.m.  IMPORTANT: There will be no meeting in July.\r\nPlease join us for the next chapter meeting on Tuesday, August 1st.--- This iCal file does *NOT* confirm registration.Event details subject to change. ---\r\n\r\n--- By Tendenci - The Open Source AMS for Associations ---\r\n
X-ALT-DESC;FMTTYPE=text/html:<div>--- This iCal file does *NOT* confirm registration.Event details subject to change. ---</div><h1>Event Title: Kent County MI Chapter Meeting</h1><div>https://portal.momsforliberty.org/events/1759/</div><br /><div>When: Aug 01, 2023 23:30 PM US/Eastern</div><div>Speaker: Garrett Soldano</div><br />Oakhill Evangelical Presbyterian Church<br />1930 Leonard St NE<br />Grand Rapids, MI 49505<br /><div>http://maps.google.com/maps?q=1930+Leonard+St+NE,Grand Rapids,MI,49505</div><br /><div>Forecast: http://www.weather.com/weather/monthly/49505</div><br /><br /><div><p>The Moms for Liberty Kent County MI Chapter Meeting is held the first Tuesday of every month from 6:30 p.m. to 8:00 p.m.&nbsp\; <strong>IMPORTANT:&nbsp\;There will be no meeting in July.</strong></p>
<p>Please join us for the <strong>next chapter meeting on Tuesday, August 1st.</strong></p></div><div>--- This iCal file does *NOT* confirm registration.Event details subject to change. ---</div><div>--- Tendenci&reg\; Software by <a href="https://www.tendenci.com">tendenci.com</a> - The Open Source AMS for Associations ---</div>
SUMMARY:Kent County MI Chapter Meeting
PRIORITY:5
CLASS:PUBLIC
BEGIN:VALARM
TRIGGER:-PT30M
ACTION:DISPLAY
DESCRIPTION:Reminder
END:VALARM
END:VEVENT
END:VCALENDAR
