BEGIN:VCALENDAR
PRODID:-//Tendenci - The Open Source AMS for Associations//Tendenci Codebase 12 MIMEDIR//EN
VERSION:2.0
METHOD:PUBLISH
BEGIN:VEVENT
DTSTAMP:20260420T223819Z
ORGANIZER:
DTSTART:20230720T040000Z
DTEND:20230720T060000Z
LOCATION:
TRANSP:OPAQUE
SEQUENCE:0
UID:uid1784@portal.momsforliberty.org
DESCRIPTION:--- This iCal file does *NOT* confirm registration.\r\nEvent details subject to change. ---\r\nhttps://portal.momsforliberty.org/events/1784/\r\n\r\nEvent Title: July Board of Education Meeting\r\nStart Date / Time: Jul 20, 2023 00:00 AM America/New_York\r\nLocation: \r\nGoogle\r\nhttp://maps.google.com/maps?q=12+Magnolia+Street,Easton,MD,21601\r\n\r\nForecast\nhttp://www.weather.com/weather/monthly/21601\r\n\r\nThe Talbot County Board of Education will be meeting on Wednesday, July 19, 7:00 pm \r\n \r\nAgenda is here: https://talbotschools-md.granicus.com/GeneratedAgendaViewer.php?view_id=1&amp\;event_id=231\r\n \r\nAll meetings are at 12 Magnolia Street, Easton, Maryland 21601\r\n \r\n --- This iCal file does *NOT* confirm registration.Event details subject to change. ---\r\n\r\n--- By Tendenci - The Open Source AMS for Associations ---\r\n
X-ALT-DESC;FMTTYPE=text/html:<div>--- This iCal file does *NOT* confirm registration.Event details subject to change. ---</div><h1>Event Title: July Board of Education Meeting</h1><div>https://portal.momsforliberty.org/events/1784/</div><br /><div>When: Jul 20, 2023 00:00 AM America/New_York</div><br /><br />12 Magnolia Street<br />Easton, MD 21601<br /><div>http://maps.google.com/maps?q=12+Magnolia+Street,Easton,MD,21601</div><br /><div>Forecast: http://www.weather.com/weather/monthly/21601</div><br /><br /><div><p>The Talbot County Board of Education will be meeting on Wednesday, July 19, 7:00 pm&nbsp\;</p>
<p>&nbsp\;</p>
<p>Agenda is here:&nbsp\;<a href="%20https://talbotschools-md.granicus.com/GeneratedAgendaViewer.php?view_id=1&amp\;event_id=231">https://talbotschools-md.grani<wbr />cus.com/GeneratedAgendaViewer.<wbr />php?view_id=1&amp\;event_id=231</a></p>
<p>&nbsp\;</p>
<p>All meetings are at 12 Magnolia Street, Easton, Maryland 21601</p>
<p>&nbsp\;</p>
<p>&nbsp\;</p></div><div>--- This iCal file does *NOT* confirm registration.Event details subject to change. ---</div><div>--- Tendenci&reg\; Software by <a href="https://www.tendenci.com">tendenci.com</a> - The Open Source AMS for Associations ---</div>
SUMMARY:July Board of Education Meeting
PRIORITY:5
CLASS:PUBLIC
BEGIN:VALARM
TRIGGER:-PT30M
ACTION:DISPLAY
DESCRIPTION:Reminder
END:VALARM
END:VEVENT
END:VCALENDAR
