BEGIN:VCALENDAR
PRODID:-//Tendenci - The Open Source AMS for Associations//Tendenci Codebase 12 MIMEDIR//EN
VERSION:2.0
METHOD:PUBLISH
BEGIN:VEVENT
DTSTAMP:20260423T084824Z
ORGANIZER:
DTSTART:20230919T223000Z
DTEND:20230920T000000Z
LOCATION:The Well Church - Southtowns Campus
TRANSP:OPAQUE
SEQUENCE:0
UID:uid1790@portal.momsforliberty.org
DESCRIPTION:--- This iCal file does *NOT* confirm registration.\r\nEvent details subject to change. ---\r\nhttps://portal.momsforliberty.org/events/1790/\r\n\r\nEvent Title: September Meeting\r\nStart Date / Time: Sep 19, 2023 18:30 PM US/Eastern\r\nLocation: The Well Church - Southtowns Campus\r\nGoogle\r\nhttp://maps.google.com/maps?q=2784+Seneca+Street,West Seneca,NY,14224\r\n\r\nForecast\nhttp://www.weather.com/weather/monthly/14224\r\n\r\nJOIN US for our first meeting of the 2023-24 school season!  Active members &amp\; guests are welcome to attend. Come anytime after 615pm to check in, get questions answered, purchase merchandise etc. Meeting begins at 630pm. \r\n \r\n**NEW Guest Policy**\r\nGuests are welcome to attend one meeting to decide on joining as a member. To attend additional meetings &amp\; events, guests must complete a membership application and be approved. Moms for Liberty  - Erie, NY reserves the right to deny attendance based on this policy.--- This iCal file does *NOT* confirm registration.Event details subject to change. ---\r\n\r\n--- By Tendenci - The Open Source AMS for Associations ---\r\n
X-ALT-DESC;FMTTYPE=text/html:<div>--- This iCal file does *NOT* confirm registration.Event details subject to change. ---</div><h1>Event Title: September Meeting</h1><div>https://portal.momsforliberty.org/events/1790/</div><br /><div>When: Sep 19, 2023 18:30 PM US/Eastern</div><br />The Well Church - Southtowns Campus<br />2784 Seneca Street<br />West Seneca, NY 14224<br /><div>http://maps.google.com/maps?q=2784+Seneca+Street,West Seneca,NY,14224</div><br /><div>Forecast: http://www.weather.com/weather/monthly/14224</div><br /><br /><div><p>JOIN US for our first meeting of the 2023-24 school season!&nbsp\; Active members &amp\; guests are welcome to attend. Come anytime after 615pm to check in, get questions answered, purchase merchandise etc. Meeting begins at 630pm.&nbsp\;</p>
<p>&nbsp\;</p>
<p><em><strong>**NEW Guest Policy**</strong></em></p>
<p><em>Guests are welcome to attend one meeting to decide on joining as a member. To attend additional meetings &amp\; events, guests must complete a membership application and be approved. Moms for Liberty&nbsp\; - Erie, NY reserves the right to deny attendance based on this policy.</em></p></div><div>--- This iCal file does *NOT* confirm registration.Event details subject to change. ---</div><div>--- Tendenci&reg\; Software by <a href="https://www.tendenci.com">tendenci.com</a> - The Open Source AMS for Associations ---</div>
SUMMARY:September Meeting
PRIORITY:5
CLASS:PUBLIC
BEGIN:VALARM
TRIGGER:-PT30M
ACTION:DISPLAY
DESCRIPTION:Reminder
END:VALARM
END:VEVENT
END:VCALENDAR
