BEGIN:VCALENDAR
PRODID:-//Tendenci - The Open Source AMS for Associations//Tendenci Codebase 12 MIMEDIR//EN
VERSION:2.0
METHOD:PUBLISH
BEGIN:VEVENT
DTSTAMP:20260423T125803Z
ORGANIZER:Moms for Liberty Florence County
DTSTART:20230721T040000Z
DTEND:20230721T053000Z
LOCATION:Western Sizzlin, Florence SC
TRANSP:OPAQUE
SEQUENCE:0
UID:uid1791@portal.momsforliberty.org
DESCRIPTION:--- This iCal file does *NOT* confirm registration.\r\nEvent details subject to change. ---\r\nhttps://portal.momsforliberty.org/events/1791/\r\n\r\nEvent Title: July monthly meeting\r\nStart Date / Time: Jul 21, 2023 00:00 AM America/New_York\r\nLocation: Western Sizzlin, Florence SC\r\nGoogle\r\nhttp://maps.google.com/maps?q=2688+David+H+McLeod+Blvd,Florence,SC,29501\r\n\r\nForecast\nhttp://www.weather.com/weather/monthly/29501\r\n\r\nWe have taken a few months off for summer but it is now time to get back together and discuss the upcoming school year and community events. The meeting will begin at 7pm.  If you plan to eat dinner, please arrive around 6:30pm.  The front room is reserved but if we have to, due to turnout, we can move to the back room.  \r\nPlease RSVP via email to moms4libertyflorence@gmail.com or text to 843-598-2599. --- This iCal file does *NOT* confirm registration.Event details subject to change. ---\r\n\r\n--- By Tendenci - The Open Source AMS for Associations ---\r\n
X-ALT-DESC;FMTTYPE=text/html:<div>--- This iCal file does *NOT* confirm registration.Event details subject to change. ---</div><h1>Event Title: July monthly meeting</h1><div>https://portal.momsforliberty.org/events/1791/</div><br /><div>When: Jul 21, 2023 00:00 AM America/New_York</div><br />Western Sizzlin, Florence SC<br />2688 David H McLeod Blvd<br />Florence, SC 29501<br /><div>http://maps.google.com/maps?q=2688+David+H+McLeod+Blvd,Florence,SC,29501</div><br /><div>Forecast: http://www.weather.com/weather/monthly/29501</div><br /><br /><div><p>We have taken a few months off for summer but it is now time to get back together and discuss the upcoming school year and community events. The meeting will begin at 7pm.&nbsp\; If you plan to eat dinner, please arrive around 6:30pm.&nbsp\; The front room is reserved but if we have to, due to turnout, we can move to the back room.&nbsp\;&nbsp\;</p>
<p>Please RSVP via email to <a href="mailto:moms4libertyflorence@gmail.com">moms4libertyflorence@gmail.com</a>&nbsp\;or text to 843-598-2599.&nbsp\;</p></div><div>--- This iCal file does *NOT* confirm registration.Event details subject to change. ---</div><div>--- Tendenci&reg\; Software by <a href="https://www.tendenci.com">tendenci.com</a> - The Open Source AMS for Associations ---</div>
SUMMARY:July monthly meeting
PRIORITY:5
CLASS:PUBLIC
BEGIN:VALARM
TRIGGER:-PT30M
ACTION:DISPLAY
DESCRIPTION:Reminder
END:VALARM
END:VEVENT
END:VCALENDAR
