BEGIN:VCALENDAR
PRODID:-//Tendenci - The Open Source AMS for Associations//Tendenci Codebase 12 MIMEDIR//EN
VERSION:2.0
METHOD:PUBLISH
BEGIN:VEVENT
DTSTAMP:20260426T061804Z
ORGANIZER:
DTSTART:20211214T080000Z
DTEND:20211214T100000Z
LOCATION:Tustin Unified School District
TRANSP:OPAQUE
SEQUENCE:0
UID:uid180@portal.momsforliberty.org
DESCRIPTION:--- This iCal file does *NOT* confirm registration.\r\nEvent details subject to change. ---\r\nhttps://portal.momsforliberty.org/events/180/\r\n\r\nEvent Title: Tustin USD\r\nStart Date / Time: Dec 14, 2021 00:00 AM US/Pacific\r\nLocation: Tustin Unified School District\r\nGoogle\r\nhttp://maps.google.com/maps?q=300+South+C+Street,Tustin,CA,92780\r\n\r\nForecast\nhttp://www.weather.com/weather/monthly/92780\r\n\r\nThe public is invited to attend or watch the Tustin Unified School District Board of Education meetings via livestream and on cable TV during the school year.\r\nThe meeting agenda and supporting materials, including the livestream link, are posted Friday prior to the Monday meeting on the TUSD website at www.tustin.k12.ca.us.    \r\n \r\nThe Board of Education holds one Regular meeting the second Monday of each month. Study Sessions have been scheduled the fourth Monday of some months.  Dates may be altered due to schedules/holidays.  All meetings are held in the District Office Board Room.All regular Board meetings are taped and televised Mondays and Thursdays at 6 p.m. on Spectrum Cable Channel 30 and Cox Communications Channel 851 to cable subscribers throughout the Tustin Unified School District attendance area.   --- This iCal file does *NOT* confirm registration.Event details subject to change. ---\r\n\r\n--- By Tendenci - The Open Source AMS for Associations ---\r\n
X-ALT-DESC;FMTTYPE=text/html:<div>--- This iCal file does *NOT* confirm registration.Event details subject to change. ---</div><h1>Event Title: Tustin USD</h1><div>https://portal.momsforliberty.org/events/180/</div><br /><div>When: Dec 14, 2021 00:00 AM US/Pacific</div><br />Tustin Unified School District<br />300 South C Street<br />Tustin, CA 92780<br /><div>http://maps.google.com/maps?q=300+South+C+Street,Tustin,CA,92780</div><br /><div>Forecast: http://www.weather.com/weather/monthly/92780</div><br /><br /><div><p>The public is invited to attend or watch the Tustin Unified School District Board of Education meetings via livestream and on cable TV during the school year.</p>
<div>The meeting agenda and supporting materials, including the livestream link, are posted Friday prior to the Monday meeting on the TUSD website at&nbsp\;<a href="https://www.tustin.k12.ca.us/">www.tustin.k12.ca.us</a>.&nbsp\; &nbsp\;&nbsp\;</div>
<div>&nbsp\;</div>
<p>The Board of Education holds one Regular meeting the second Monday of each month. Study Sessions have been scheduled the fourth Monday of some months.&nbsp\; Dates may be altered due to schedules/holidays.&nbsp\; All meetings are held in the District Office Board Room.<br /><br />All regular Board meetings are taped and televised Mondays and Thursdays at 6&nbsp\;p.m. on Spectrum Cable Channel 30 and Cox Communications Channel 851 to cable subscribers throughout the Tustin Unified School District attendance area.&nbsp\; &nbsp\;</p></div><div>--- This iCal file does *NOT* confirm registration.Event details subject to change. ---</div><div>--- Tendenci&reg\; Software by <a href="https://www.tendenci.com">tendenci.com</a> - The Open Source AMS for Associations ---</div>
SUMMARY:Tustin USD
PRIORITY:5
CLASS:PUBLIC
BEGIN:VALARM
TRIGGER:-PT30M
ACTION:DISPLAY
DESCRIPTION:Reminder
END:VALARM
END:VEVENT
END:VCALENDAR
