BEGIN:VCALENDAR
PRODID:-//Tendenci - The Open Source AMS for Associations//Tendenci Codebase 12 MIMEDIR//EN
VERSION:2.0
METHOD:PUBLISH
BEGIN:VEVENT
DTSTAMP:20260421T003827Z
ORGANIZER:
DTSTART:20230727T040000Z
DTEND:20230727T060000Z
LOCATION:
TRANSP:OPAQUE
SEQUENCE:0
UID:uid1806@portal.momsforliberty.org
DESCRIPTION:--- This iCal file does *NOT* confirm registration.\r\nEvent details subject to change. ---\r\nhttps://portal.momsforliberty.org/events/1806/\r\n\r\nEvent Title: No Way Back~ Movie\r\nStart Date / Time: Jul 26, 2023 22:00 PM US/Mountain\r\nLocation: \r\nGoogle\r\nhttp://maps.google.com/maps?q=3337+N.+Academy+Blvd,Colorado Springs,CO\r\n\r\nForecast\nhttp://www.weather.com/weather/monthly/\r\n\r\nWednesday, July 26th &bull\;\r\nFrom 5-7 PM\r\nFERVENT Church\r\n3337 North Academy Blvd.\r\nDonations are appreciated. --- This iCal file does *NOT* confirm registration.Event details subject to change. ---\r\n\r\n--- By Tendenci - The Open Source AMS for Associations ---\r\n
X-ALT-DESC;FMTTYPE=text/html:<div>--- This iCal file does *NOT* confirm registration.Event details subject to change. ---</div><h1>Event Title: No Way Back~ Movie</h1><div>https://portal.momsforliberty.org/events/1806/</div><br /><div>When: Jul 26, 2023 22:00 PM US/Mountain</div><br /><br />3337 N. Academy Blvd<br />Colorado Springs, CO<br /><div>http://maps.google.com/maps?q=3337+N.+Academy+Blvd,Colorado Springs,CO</div><br /><div>Forecast: http://www.weather.com/weather/monthly/</div><br /><br /><div><p class="_04xlpA direction-ltr align-center para-style-body"><span class="WdYUQQ text-decoration-none text-strikethrough-none">Wednesday, July 26th &bull\;</span></p>
<p class="_04xlpA direction-ltr align-center para-style-body"><span class="WdYUQQ text-decoration-none text-strikethrough-none">From 5-7 PM</span></p>
<p class="_04xlpA direction-ltr align-center para-style-body"><span class="WdYUQQ text-decoration-none text-strikethrough-none">FERVENT Church</span></p>
<p class="_04xlpA direction-ltr align-center para-style-body"><span class="WdYUQQ text-decoration-none text-strikethrough-none">3337 North Academy Blvd.</span></p>
<p class="_04xlpA direction-ltr align-center para-style-body"><span class="WdYUQQ text-decoration-none text-strikethrough-none">Donations are appreciated. </span></p></div><div>--- This iCal file does *NOT* confirm registration.Event details subject to change. ---</div><div>--- Tendenci&reg\; Software by <a href="https://www.tendenci.com">tendenci.com</a> - The Open Source AMS for Associations ---</div>
SUMMARY:No Way Back~ Movie
PRIORITY:5
CLASS:PUBLIC
BEGIN:VALARM
TRIGGER:-PT30M
ACTION:DISPLAY
DESCRIPTION:Reminder
END:VALARM
END:VEVENT
END:VCALENDAR
