BEGIN:VCALENDAR
PRODID:-//Tendenci - The Open Source AMS for Associations//Tendenci Codebase 12 MIMEDIR//EN
VERSION:2.0
METHOD:PUBLISH
BEGIN:VEVENT
DTSTAMP:20260420T233833Z
ORGANIZER:
DTSTART:20230731T233000Z
DTEND:20230801T013000Z
LOCATION:https://nebraskapublicmedia.org/en/watch/live/
TRANSP:OPAQUE
SEQUENCE:0
UID:uid1808@portal.momsforliberty.org
DESCRIPTION:--- This iCal file does *NOT* confirm registration.\r\nEvent details subject to change. ---\r\nhttps://portal.momsforliberty.org/events/1808/\r\n\r\nEvent Title: Education Committee Hearing on SEL and Parental Involvement\r\nStart Date / Time: Jul 31, 2023 18:30 PM US/Central\r\nLocation: https://nebraskapublicmedia.org/en/watch/live/\r\nState Senator Murman and the Education Committee are conducting an interim study on parental involvement in schools and social emotional learning.\r\n \r\nA hearing will be held at Monday, July 31 at 1:30 pm.\r\n \r\nHearing will be broadcast live online on Nebraska Public Media.\r\n \r\n\r\nPlease submit online comments in regards to these important issues!\r\n \r\nYou can submit online comments to the committee here:\r\nhttps://nebraskalegislature.gov/calendar/hearings.php...\r\n \r\nHearing will be live streamed by Nebraska Public Media.\r\nhttps://nebraskapublicmedia.org/en/watch/live/\r\n--- This iCal file does *NOT* confirm registration.Event details subject to change. ---\r\n\r\n--- By Tendenci - The Open Source AMS for Associations ---\r\n
X-ALT-DESC;FMTTYPE=text/html:<div>--- This iCal file does *NOT* confirm registration.Event details subject to change. ---</div><h1>Event Title: Education Committee Hearing on SEL and Parental Involvement</h1><div>https://portal.momsforliberty.org/events/1808/</div><br /><div>When: Jul 31, 2023 18:30 PM US/Central</div><br /><div><div class="xdj266r x11i5rnm xat24cr x1mh8g0r x1vvkbs">State Senator Murman and the Education Committee are conducting an interim study on parental involvement in schools and social emotional learning.</div>
<div class="xdj266r x11i5rnm xat24cr x1mh8g0r x1vvkbs">&nbsp\;</div>
<div class="x11i5rnm xat24cr x1mh8g0r x1vvkbs xtlvy1s">A hearing will be held at Monday, July 31 at 1:30 pm.</div>
<div class="x11i5rnm xat24cr x1mh8g0r x1vvkbs xtlvy1s">&nbsp\;</div>
<div class="x11i5rnm xat24cr x1mh8g0r x1vvkbs xtlvy1s">Hearing will be broadcast live online on Nebraska Public Media.</div>
<div class="x11i5rnm xat24cr x1mh8g0r x1vvkbs xtlvy1s">&nbsp\;</div>
<div class="x11i5rnm xat24cr x1mh8g0r x1vvkbs xtlvy1s">
<div class="x1e56ztr"><span class="x193iq5w xeuugli x13faqbe x1vvkbs x1xmvt09 x6prxxf xvq8zen xo1l8bm xzsf02u"><strong>Please submit online comments in regards to these important issues!</strong></span></div>
<div class="x1e56ztr">&nbsp\;</div>
<div class="x1e56ztr"><span class="x193iq5w xeuugli x13faqbe x1vvkbs x1xmvt09 x6prxxf xvq8zen xo1l8bm xzsf02u">You can submit online comments to the committee here:</span></div>
<div class="x1e56ztr"><span class="x193iq5w xeuugli x13faqbe x1vvkbs x1xmvt09 x6prxxf xvq8zen xo1l8bm xzsf02u"><a class="x1i10hfl xjbqb8w x6umtig x1b1mbwd xaqea5y xav7gou x9f619 x1ypdohk xt0psk2 xe8uvvx xdj266r x11i5rnm xat24cr x1mh8g0r xexx8yu x4uap5 x18d9i69 xkhd6sd x16tdsg8 x1hl2dhg xggy1nq x1a2a7pz xt0b8zv x1fey0fg" tabindex="0" role="link" href="https://nebraskalegislature.gov/calendar/hearings.php?CommitteeID=5&amp\;fbclid=IwAR2dBET76Mppb7vx1LpeqOgBKnbyWVWia6Mga4TTdkTI3PxVRI8UCremvfk" target="_blank" rel="nofollow noreferrer noopener">https://nebraskalegislature.gov/calendar/hearings.php...</a></span></div>
<div class="x1e56ztr">&nbsp\;</div>
<div class="x1e56ztr"><span class="x193iq5w xeuugli x13faqbe x1vvkbs x1xmvt09 x6prxxf xvq8zen xo1l8bm xzsf02u">Hearing will be live streamed by Nebraska Public Media.</span></div>
<div class="x1e56ztr"><span class="x193iq5w xeuugli x13faqbe x1vvkbs x1xmvt09 x6prxxf xvq8zen xo1l8bm xzsf02u"><a class="x1i10hfl xjbqb8w x6umtig x1b1mbwd xaqea5y xav7gou x9f619 x1ypdohk xt0psk2 xe8uvvx xdj266r x11i5rnm xat24cr x1mh8g0r xexx8yu x4uap5 x18d9i69 xkhd6sd x16tdsg8 x1hl2dhg xggy1nq x1a2a7pz xt0b8zv x1fey0fg" tabindex="0" role="link" href="https://l.facebook.com/l.php?u=https%3A%2F%2Fnebraskapublicmedia.org%2Fen%2Fwatch%2Flive%2F%3Ffbclid%3DIwAR0XIFl0xXg4M7kxMba0fkZwtWol_n2fHcylFZafP42x_FxIRIpsFtv2o0I&amp\;h=AT0DoVkyCiLntx5anubxSSBv_ymq1u_YwZlj2LmVCrLdqrmislIOwCTnZv9M6r9e8WGDzE-1htCKfAPecLPtKGOJSy5EKJRl7emvFRwBOIVCG-JcVBYHvkU1NkG8HCjZ5g&amp\;__tn__=-UK-R&amp\;c[0]=AT0PGpZpUDXL7CfPRV_mSVAxRFP60-DHFHqBTbPJ5P-aiJKKIFhahUqUqwtOifd472xwCFbkFZlF4ZZFJUs1IeEmZpbVUh37LdOqlNM_7VB0qdFpD9yPdX95FPMojiWzM_bNQAmCL_yvqri5s-3pYEkAEzmhGlHeweFNqSY0mDQcH-_JGeVRHg12RaNaOV1mT_NyDFPzOAitI8hoBzbQLWw" target="_blank" rel="nofollow noreferrer noopener">https://nebraskapublicmedia.org/en/watch/live/</a></span></div>
</div></div><div>--- This iCal file does *NOT* confirm registration.Event details subject to change. ---</div><div>--- Tendenci&reg\; Software by <a href="https://www.tendenci.com">tendenci.com</a> - The Open Source AMS for Associations ---</div>
SUMMARY:Education Committee Hearing on SEL and Parental Involvement
PRIORITY:5
CLASS:PUBLIC
BEGIN:VALARM
TRIGGER:-PT30M
ACTION:DISPLAY
DESCRIPTION:Reminder
END:VALARM
END:VEVENT
END:VCALENDAR
