BEGIN:VCALENDAR
PRODID:-//Tendenci - The Open Source AMS for Associations//Tendenci Codebase 12 MIMEDIR//EN
VERSION:2.0
METHOD:PUBLISH
BEGIN:VEVENT
DTSTAMP:20260423T183026Z
ORGANIZER:York County Republicans
DTSTART:20230802T050000Z
DTEND:20230802T070000Z
LOCATION:York Univ - Bartholomew Performing Arts Center
TRANSP:OPAQUE
SEQUENCE:0
UID:uid1809@portal.momsforliberty.org
DESCRIPTION:--- This iCal file does *NOT* confirm registration.\r\nEvent details subject to change. ---\r\nhttps://portal.momsforliberty.org/events/1809/\r\n\r\nEvent Title: S.E.L. (Social Emotional Learning) Horrors\r\nStart Date / Time: Aug 02, 2023 00:00 AM US/Central\r\nLocation: York Univ - Bartholomew Performing Arts Center\r\nSpeaker: Dr. Sue Greenwald\r\nGoogle\r\nhttp://maps.google.com/maps?q=1098+E+10th+St+#1000,York,NE\r\n\r\nForecast\nhttp://www.weather.com/weather/monthly/\r\n\r\nWhat can you do about Social Emotional Learning in your child's classroom?\r\n \r\nJoin Dr. Sue Greenwald of Protect Nebraska Children to learn more about the thruths of this curriculum. Sue is a retired pediatrician who specialized in helping abused children.\r\n \r\nFollow Dr. Greenwald at: ForwardNebraska.substack.com!\r\n \r\nHope to see you there!--- This iCal file does *NOT* confirm registration.Event details subject to change. ---\r\n\r\n--- By Tendenci - The Open Source AMS for Associations ---\r\n
X-ALT-DESC;FMTTYPE=text/html:<div>--- This iCal file does *NOT* confirm registration.Event details subject to change. ---</div><h1>Event Title: S.E.L. (Social Emotional Learning) Horrors</h1><div>https://portal.momsforliberty.org/events/1809/</div><br /><div>When: Aug 02, 2023 00:00 AM US/Central</div><div>Speaker: Dr. Sue Greenwald</div><br />York Univ - Bartholomew Performing Arts Center<br />1098 E 10th St #1000<br />York, NE<br /><div>http://maps.google.com/maps?q=1098+E+10th+St+#1000,York,NE</div><br /><div>Forecast: http://www.weather.com/weather/monthly/</div><br /><br /><div><div class="xdj266r x11i5rnm xat24cr x1mh8g0r x1vvkbs">What can you do about Social Emotional Learning in your child's classroom?</div>
<div class="xdj266r x11i5rnm xat24cr x1mh8g0r x1vvkbs">&nbsp\;</div>
<div class="x11i5rnm xat24cr x1mh8g0r x1vvkbs xtlvy1s">Join Dr. Sue Greenwald of Protect Nebraska Children to learn more about the thruths of this curriculum. Sue is a retired pediatrician who specialized in helping abused children.</div>
<div class="x11i5rnm xat24cr x1mh8g0r x1vvkbs xtlvy1s">&nbsp\;</div>
<div class="x11i5rnm xat24cr x1mh8g0r x1vvkbs xtlvy1s">Follow Dr. Greenwald at:&nbsp\;<a class="x1i10hfl xjbqb8w x6umtig x1b1mbwd xaqea5y xav7gou x9f619 x1ypdohk xt0psk2 xe8uvvx xdj266r x11i5rnm xat24cr x1mh8g0r xexx8yu x4uap5 x18d9i69 xkhd6sd x16tdsg8 x1hl2dhg xggy1nq x1a2a7pz xt0b8zv x1fey0fg" tabindex="0" role="link" href="https://l.facebook.com/l.php?u=http%3A%2F%2FForwardNebraska.substack.com%2F%3Ffbclid%3DIwAR2LLlreh73F4EgY_THWnH-9LgsDarrs3AHghwG25P7LDX8AcoQOkzawSto&amp\;h=AT39qnZTRXJcKQ1uJmhLtPrgm79tJCWucigmYTi3HgObfIiDAp8SPBmjbuR-mtY4I4aK92WlS2s12lC9fQYJbCruIL6Bc68us-JWRO3UKW1KLMlg54L_O0ncIAsavElvAQ&amp\;__tn__=q&amp\;c[0]=AT20XeHXwCr-xAXYGFEH7kF0VGXZcH22_lfeFror89IHmxoSpI5V6x8Ey0chHP0QhxQSlbpnAn-C6syK5mCK04dfn0xujPjXnZqa9tSt6YRqPvm-czGVVUEmaF47gcqmWFU" target="_blank" rel="nofollow noreferrer noopener">ForwardNebraska.substack.com</a>!</div>
<div class="x11i5rnm xat24cr x1mh8g0r x1vvkbs xtlvy1s">&nbsp\;</div>
<div class="x11i5rnm xat24cr x1mh8g0r x1vvkbs xtlvy1s">Hope to see you there!</div></div><div>--- This iCal file does *NOT* confirm registration.Event details subject to change. ---</div><div>--- Tendenci&reg\; Software by <a href="https://www.tendenci.com">tendenci.com</a> - The Open Source AMS for Associations ---</div>
SUMMARY:S.E.L. (Social Emotional Learning) Horrors
PRIORITY:5
CLASS:PUBLIC
BEGIN:VALARM
TRIGGER:-PT30M
ACTION:DISPLAY
DESCRIPTION:Reminder
END:VALARM
END:VEVENT
END:VCALENDAR
