BEGIN:VCALENDAR
PRODID:-//Tendenci - The Open Source AMS for Associations//Tendenci Codebase 12 MIMEDIR//EN
VERSION:2.0
METHOD:PUBLISH
BEGIN:VEVENT
DTSTAMP:20260422T142920Z
ORGANIZER:
DTSTART:20211208T060000Z
DTEND:20211208T080000Z
LOCATION:Newport-Mesa Unified School District
TRANSP:OPAQUE
SEQUENCE:0
UID:uid181@portal.momsforliberty.org
DESCRIPTION:--- This iCal file does *NOT* confirm registration.\r\nEvent details subject to change. ---\r\nhttps://portal.momsforliberty.org/events/181/\r\n\r\nEvent Title: Newport-Mesa USD School Board Meeting\r\nStart Date / Time: Dec 08, 2021 00:00 AM US/Central\r\nLocation: Newport-Mesa Unified School District\r\nGoogle\r\nhttp://maps.google.com/maps?q=2985+Bear+Street,Costa Mesa,CA,92626\r\n\r\nForecast\nhttp://www.weather.com/weather/monthly/92626\r\n\r\nAll Board meetings are recorded.  Board of Education meeting videos from January 2018 to the present are now available in an accessible format online "NMUSD YouTube Channel."--- This iCal file does *NOT* confirm registration.Event details subject to change. ---\r\n\r\n--- By Tendenci - The Open Source AMS for Associations ---\r\n
X-ALT-DESC;FMTTYPE=text/html:<div>--- This iCal file does *NOT* confirm registration.Event details subject to change. ---</div><h1>Event Title: Newport-Mesa USD School Board Meeting</h1><div>https://portal.momsforliberty.org/events/181/</div><br /><div>When: Dec 08, 2021 00:00 AM US/Central</div><br />Newport-Mesa Unified School District<br />2985 Bear Street<br />Costa Mesa, CA 92626<br /><div>http://maps.google.com/maps?q=2985+Bear+Street,Costa Mesa,CA,92626</div><br /><div>Forecast: http://www.weather.com/weather/monthly/92626</div><br /><br /><div><p>All Board meetings are&nbsp\;recorded.&nbsp\; Board of Education meeting videos from January 2018 to the present are now available in an accessible format online "<a href="https://www.youtube.com/playlist?list=PLIkJ1hyC4k6dQyo_XS0B1NkDMQur8Podt" target="_blank" rel="noopener">NMUSD YouTube Channel</a>."</p></div><div>--- This iCal file does *NOT* confirm registration.Event details subject to change. ---</div><div>--- Tendenci&reg\; Software by <a href="https://www.tendenci.com">tendenci.com</a> - The Open Source AMS for Associations ---</div>
SUMMARY:Newport-Mesa USD School Board Meeting
PRIORITY:5
CLASS:PUBLIC
BEGIN:VALARM
TRIGGER:-PT30M
ACTION:DISPLAY
DESCRIPTION:Reminder
END:VALARM
END:VEVENT
END:VCALENDAR
