BEGIN:VCALENDAR
PRODID:-//Tendenci - The Open Source AMS for Associations//Tendenci Codebase 12 MIMEDIR//EN
VERSION:2.0
METHOD:PUBLISH
BEGIN:VEVENT
DTSTAMP:20260421T222244Z
ORGANIZER:
DTSTART:20230822T050000Z
DTEND:20230822T070000Z
LOCATION:
TRANSP:OPAQUE
SEQUENCE:0
UID:uid1815@portal.momsforliberty.org
DESCRIPTION:--- This iCal file does *NOT* confirm registration.\r\nEvent details subject to change. ---\r\nhttps://portal.momsforliberty.org/events/1815/\r\n\r\nEvent Title: D38 Board Meeting\r\nStart Date / Time: Aug 21, 2023 23:00 PM US/Mountain\r\nLocation: \r\nBoard of Education meetings are typically held on the third Monday of each month at 6:00 p.m. in the Learning Center* at the administration building and are open to the public. Portions of meetings may sometimes be closed for private executive sessions, which is indicated on the meeting agenda. Public comments are taken at the beginning of each regular meeting. In addition, most meetings are live-streamed on the district's YouTube channel.\r\nBoard of Education members represent separate geographical areas within Lewis-Palmer School District. These areas should not be confused with attendance boundaries\; rather, they are intended to divide the district into areas of equal population. Click here for the map of the Board of Education Districts.\r\nThe Board serves as a representative of the community in providing direction for district programs and ensuring that the school system is efficiently and effectively operated. In fulfilling this responsibility, the board concerns itself primarily with adopting policy, planning school services, and evaluating the quality and effectiveness of district services. More information is available from the Colorado Association of School Boards.\r\nYou may now submit public comments digitally for Board of Education review and to be entered into the public record. Should you wish to do so, please submit your comment by clicking here, and it will be entered into the record at the next meeting.--- This iCal file does *NOT* confirm registration.Event details subject to change. ---\r\n\r\n--- By Tendenci - The Open Source AMS for Associations ---\r\n
X-ALT-DESC;FMTTYPE=text/html:<div>--- This iCal file does *NOT* confirm registration.Event details subject to change. ---</div><h1>Event Title: D38 Board Meeting</h1><div>https://portal.momsforliberty.org/events/1815/</div><br /><div>When: Aug 21, 2023 23:00 PM US/Mountain</div><br /><div><p>Board of Education meetings are typically held on the third Monday of each month at 6:00 p.m. in the Learning Center* at the administration building and are open to the public. Portions of meetings may sometimes be closed for private executive sessions, which is indicated on the meeting agenda. Public comments are taken at the beginning of each regular meeting. In addition, most meetings are live-streamed on the <a href="https://www.youtube.com/user/LPSDCommunity" target="_blank" rel="noopener noreferrer nofollow"><strong>district's YouTube channel</strong></a>.</p>
<p>Board of Education members represent separate geographical areas within Lewis-Palmer School District. These areas should not be confused with attendance boundaries\; rather, they are intended to divide the district into areas of equal population. <a href="https://www.lewispalmer.org/o/lpsd/page/board-of-education-districts" target="_self" rel="noopener noreferrer nofollow"><strong>Click here&nbsp\;for the map of the Board of Education Districts</strong></a><strong>.</strong></p>
<p>The Board serves as a representative of the community in providing direction for district programs and ensuring that the school system is efficiently and effectively operated. In fulfilling this responsibility, the board concerns itself primarily with adopting policy, planning school services, and evaluating the quality and effectiveness of district services. More information is available from the&nbsp\;<a href="https://www.casb.org/" target="_blank" rel="noopener noreferrer nofollow"><strong>Colorado Association of School Boards</strong></a>.</p>
<p>You may now submit public comments digitally for Board of Education review and to be entered into the public record. Should you wish to do so, please <a href="https://docs.google.com/forms/d/e/1FAIpQLSc63BzHnjSQpjlcvnWdYfJ4X5xQ3oYyWkw2UfUAKRLkpjxQ_A/viewform?usp=sf_link" target="_blank" rel="noopener noreferrer nofollow"><strong>submit your comment by clicking here</strong></a>, and it will be entered into the record at the next meeting.</p></div><div>--- This iCal file does *NOT* confirm registration.Event details subject to change. ---</div><div>--- Tendenci&reg\; Software by <a href="https://www.tendenci.com">tendenci.com</a> - The Open Source AMS for Associations ---</div>
SUMMARY:D38 Board Meeting
PRIORITY:5
CLASS:PUBLIC
BEGIN:VALARM
TRIGGER:-PT30M
ACTION:DISPLAY
DESCRIPTION:Reminder
END:VALARM
END:VEVENT
END:VCALENDAR
