BEGIN:VCALENDAR
PRODID:-//Tendenci - The Open Source AMS for Associations//Tendenci Codebase 12 MIMEDIR//EN
VERSION:2.0
METHOD:PUBLISH
BEGIN:VEVENT
DTSTAMP:20260420T223954Z
ORGANIZER:
DTSTART:20230825T040000Z
DTEND:20230825T050000Z
LOCATION:Roger's BBQ
TRANSP:OPAQUE
SEQUENCE:0
UID:uid1823@portal.momsforliberty.org
DESCRIPTION:--- This iCal file does *NOT* confirm registration.\r\nEvent details subject to change. ---\r\nhttps://portal.momsforliberty.org/events/1823/\r\n\r\nEvent Title: Moms for Liberty - Florence County SC Chapter meeting\r\nStart Date / Time: Aug 25, 2023 00:00 AM America/New_York\r\nLocation: Roger's BBQ\r\nGoogle\r\nhttp://maps.google.com/maps?q=2004+2nd+Loop+Road,Florence,SC,29501\r\n\r\nForecast\nhttp://www.weather.com/weather/monthly/29501\r\n\r\nWe will have our monthly chapter meeting at Roger's BBQ in one of the back rooms.  If you plan to eat dinner, please arrive no later than 6:30 pm and go through the line when you enter the building.--- This iCal file does *NOT* confirm registration.Event details subject to change. ---\r\n\r\n--- By Tendenci - The Open Source AMS for Associations ---\r\n
X-ALT-DESC;FMTTYPE=text/html:<div>--- This iCal file does *NOT* confirm registration.Event details subject to change. ---</div><h1>Event Title: Moms for Liberty - Florence County SC Chapter meeting</h1><div>https://portal.momsforliberty.org/events/1823/</div><br /><div>When: Aug 25, 2023 00:00 AM America/New_York</div><br />Roger's BBQ<br />2004 2nd Loop Road<br />Florence, SC 29501<br /><div>http://maps.google.com/maps?q=2004+2nd+Loop+Road,Florence,SC,29501</div><br /><div>Forecast: http://www.weather.com/weather/monthly/29501</div><br /><br /><div><p>We will have our monthly chapter meeting at Roger's BBQ in one of the back rooms.&nbsp\; If you plan to eat dinner, please arrive no later than 6:30 pm and go through the line when you enter the building.</p></div><div>--- This iCal file does *NOT* confirm registration.Event details subject to change. ---</div><div>--- Tendenci&reg\; Software by <a href="https://www.tendenci.com">tendenci.com</a> - The Open Source AMS for Associations ---</div>
SUMMARY:Moms for Liberty - Florence County SC Chapter meeting
PRIORITY:5
CLASS:PUBLIC
BEGIN:VALARM
TRIGGER:-PT30M
ACTION:DISPLAY
DESCRIPTION:Reminder
END:VALARM
END:VEVENT
END:VCALENDAR
