BEGIN:VCALENDAR
PRODID:-//Tendenci - The Open Source AMS for Associations//Tendenci Codebase 12 MIMEDIR//EN
VERSION:2.0
METHOD:PUBLISH
BEGIN:VEVENT
DTSTAMP:20260422T154600Z
ORGANIZER:Molly Lujan
DTSTART:20230801T100000Z
DTEND:20230809T095959Z
LOCATION:
TRANSP:OPAQUE
SEQUENCE:0
UID:uid1826@portal.momsforliberty.org
DESCRIPTION:--- This iCal file does *NOT* confirm registration.\r\nEvent details subject to change. ---\r\nhttps://portal.momsforliberty.org/events/1826/\r\n\r\nEvent Title: Moms for Liberty - Scott County Pampered Chef Fundraiser\r\nStart Date / Time: Aug 01, 2023 05:00 AM US/Central\r\nLocation: \r\nYou're invited to a Pampered Chef fundraiser! Shop this link and up to 30% of the sales will go back to Moms for Liberty - Scott County.\r\nMoms for Liberty - Scott County is dedicated to the survival of America by unifying, educating and empowering parents to defend their parental rights at all levels of government.\r\nPlease share this shopping link with parents, grandparents, and friends that value parental rights.\r\nAll orders are processed and shipped immediately and directly to the person placing the order and is available for shipping to anywhere in the USA!--- This iCal file does *NOT* confirm registration.Event details subject to change. ---\r\n\r\n--- By Tendenci - The Open Source AMS for Associations ---\r\n
X-ALT-DESC;FMTTYPE=text/html:<div>--- This iCal file does *NOT* confirm registration.Event details subject to change. ---</div><h1>Event Title: Moms for Liberty - Scott County Pampered Chef Fundraiser</h1><div>https://portal.momsforliberty.org/events/1826/</div><br /><div>When: Aug 01, 2023 05:00 AM US/Central</div><br /><div><p>You're invited to a Pampered Chef fundraiser! Shop this link and up to 30% of the sales will go back to Moms for Liberty - Scott County.</p>
<p>Moms for Liberty - Scott County is dedicated to the survival of America by unifying, educating and empowering parents to defend their parental rights at all levels of government.</p>
<p>Please share this shopping link with parents, grandparents, and friends that value parental rights.</p>
<p>All orders are processed and shipped immediately and directly to the person placing the order and is available for shipping to anywhere in the USA!</p></div><div>--- This iCal file does *NOT* confirm registration.Event details subject to change. ---</div><div>--- Tendenci&reg\; Software by <a href="https://www.tendenci.com">tendenci.com</a> - The Open Source AMS for Associations ---</div>
SUMMARY:Moms for Liberty - Scott County Pampered Chef Fundraiser
PRIORITY:5
CLASS:PUBLIC
BEGIN:VALARM
TRIGGER:-PT30M
ACTION:DISPLAY
DESCRIPTION:Reminder
END:VALARM
END:VEVENT
END:VCALENDAR
