BEGIN:VCALENDAR
PRODID:-//Tendenci - The Open Source AMS for Associations//Tendenci Codebase 12 MIMEDIR//EN
VERSION:2.0
METHOD:PUBLISH
BEGIN:VEVENT
DTSTAMP:20260425T170556Z
ORGANIZER:
DTSTART:20230811T040000Z
DTEND:20230811T060000Z
LOCATION:Ralph Rush Staff Development Center
TRANSP:OPAQUE
SEQUENCE:0
UID:uid1832@portal.momsforliberty.org
DESCRIPTION:--- This iCal file does *NOT* confirm registration.\r\nEvent details subject to change. ---\r\nhttps://portal.momsforliberty.org/events/1832/\r\n\r\nEvent Title: Boone County School District Board Meeting\r\nStart Date / Time: Aug 11, 2023 00:00 AM America/New_York\r\nLocation: Ralph Rush Staff Development Center\r\nGoogle\r\nhttp://maps.google.com/maps?q=99+Center+Street,Florence,41042\r\n\r\nForecast\nhttp://www.weather.com/weather/monthly/41042\r\n\r\nTime:  7:00 p.m.\r\nLocation:  Ralph Rush Professional Development Center, 99 Center St., Florence, KY  41042\r\nAgenda will include a vote to RAISE TAXES!--- This iCal file does *NOT* confirm registration.Event details subject to change. ---\r\n\r\n--- By Tendenci - The Open Source AMS for Associations ---\r\n
X-ALT-DESC;FMTTYPE=text/html:<div>--- This iCal file does *NOT* confirm registration.Event details subject to change. ---</div><h1>Event Title: Boone County School District Board Meeting</h1><div>https://portal.momsforliberty.org/events/1832/</div><br /><div>When: Aug 11, 2023 00:00 AM America/New_York</div><br />Ralph Rush Staff Development Center<br />99 Center Street<br /> 41042<br /><div>http://maps.google.com/maps?q=99+Center+Street,Florence,41042</div><br /><div>Forecast: http://www.weather.com/weather/monthly/41042</div><br /><br /><div><p>Time:&nbsp\; 7:00 p.m.</p>
<p>Location:&nbsp\; Ralph Rush Professional Development Center, 99 Center St., Florence, KY&nbsp\; 41042</p>
<p>Agenda will include a vote to RAISE TAXES!</p></div><div>--- This iCal file does *NOT* confirm registration.Event details subject to change. ---</div><div>--- Tendenci&reg\; Software by <a href="https://www.tendenci.com">tendenci.com</a> - The Open Source AMS for Associations ---</div>
SUMMARY:Boone County School District Board Meeting
PRIORITY:5
CLASS:PUBLIC
BEGIN:VALARM
TRIGGER:-PT30M
ACTION:DISPLAY
DESCRIPTION:Reminder
END:VALARM
END:VEVENT
END:VCALENDAR
