BEGIN:VCALENDAR
PRODID:-//Tendenci - The Open Source AMS for Associations//Tendenci Codebase 12 MIMEDIR//EN
VERSION:2.0
METHOD:PUBLISH
BEGIN:VEVENT
DTSTAMP:20260423T173028Z
ORGANIZER:
DTSTART:20230816T003000Z
DTEND:20230816T050000Z
LOCATION:
TRANSP:OPAQUE
SEQUENCE:0
UID:uid1833@portal.momsforliberty.org
DESCRIPTION:--- This iCal file does *NOT* confirm registration.\r\nEvent details subject to change. ---\r\nhttps://portal.momsforliberty.org/events/1833/\r\n\r\nEvent Title: WCPSS Work Session and School Board meeting\r\nStart Date / Time: Aug 15, 2023 20:30 PM US/Eastern\r\nLocation: \r\n11:30am - 4:30 pm - Sign up to speak is open\r\n3:30-5:30pm Board Work Session\r\n5:30pm - 8pm Board Meeting and Public Comment\r\n \r\nSign up to speak at the Board Meeting begins 11:30am the day of the meeting. To sign online: https://www.wcpss.net/Page/3727\r\n \r\nIf you cannot attend in person, it may be also viewed online on WCPSS YouTube channel: https://www.youtube.com/@WakeCountySchools/streams\r\n \r\nAgenda's and slide decks may be viewed/ downloaded from Simbli the Friday before the meeting: https://assistive.eboardsolutions.com/SB_Meetings/SB_MeetingListing.aspx?S=920 --- This iCal file does *NOT* confirm registration.Event details subject to change. ---\r\n\r\n--- By Tendenci - The Open Source AMS for Associations ---\r\n
X-ALT-DESC;FMTTYPE=text/html:<div>--- This iCal file does *NOT* confirm registration.Event details subject to change. ---</div><h1>Event Title: WCPSS Work Session and School Board meeting</h1><div>https://portal.momsforliberty.org/events/1833/</div><br /><div>When: Aug 15, 2023 20:30 PM US/Eastern</div><br /><div><div class="xdj266r x11i5rnm xat24cr x1mh8g0r x1vvkbs">11:30am - 4:30 pm - Sign up to speak is open</div>
<div class="xdj266r x11i5rnm xat24cr x1mh8g0r x1vvkbs">3:30-5:30pm Board Work Session</div>
<div class="xdj266r x11i5rnm xat24cr x1mh8g0r x1vvkbs">5:30pm - 8pm Board Meeting and Public Comment</div>
<div class="xdj266r x11i5rnm xat24cr x1mh8g0r x1vvkbs">&nbsp\;</div>
<div class="xdj266r x11i5rnm xat24cr x1mh8g0r x1vvkbs">Sign up to speak at the Board Meeting begins 11:30am the day of the meeting. To sign online:&nbsp\;<a class="x1i10hfl xjbqb8w x6umtig x1b1mbwd xaqea5y xav7gou x9f619 x1ypdohk xt0psk2 xe8uvvx xdj266r x11i5rnm xat24cr x1mh8g0r xexx8yu x4uap5 x18d9i69 xkhd6sd x16tdsg8 x1hl2dhg xggy1nq x1a2a7pz xt0b8zv x1fey0fg" tabindex="0" role="link" href="https://www.wcpss.net/Page/3727?fbclid=IwAR2o17meVO0uo-iuEw4oU2r78eMcH4mhyVcE--Th8oq94jx5nbAxOcZbVlI" target="_blank" rel="nofollow noreferrer noopener">https://www.wcpss.net/Page/3727</a></div>
<div class="xdj266r x11i5rnm xat24cr x1mh8g0r x1vvkbs">&nbsp\;</div>
<div class="x11i5rnm xat24cr x1mh8g0r x1vvkbs xtlvy1s">If you cannot attend in person, it may be also viewed online on WCPSS YouTube channel:&nbsp\;<a class="x1i10hfl xjbqb8w x6umtig x1b1mbwd xaqea5y xav7gou x9f619 x1ypdohk xt0psk2 xe8uvvx xdj266r x11i5rnm xat24cr x1mh8g0r xexx8yu x4uap5 x18d9i69 xkhd6sd x16tdsg8 x1hl2dhg xggy1nq x1a2a7pz xt0b8zv x1fey0fg" tabindex="0" role="link" href="https://www.youtube.com/@WakeCountySchools/streams?fbclid=IwAR1fq00paRUQQddkx5jLfwwuyuZEqM5dRjo5fbVS_Nx7OfsJm3JOI3ljilQ" target="_blank" rel="nofollow noreferrer noopener">https://www.youtube.com/@WakeCountySchools/streams</a></div>
<div class="x11i5rnm xat24cr x1mh8g0r x1vvkbs xtlvy1s">&nbsp\;</div>
<div class="x11i5rnm xat24cr x1mh8g0r x1vvkbs xtlvy1s">Agenda's and slide decks may be viewed/ downloaded from Simbli the Friday before the meeting:&nbsp\;<a href="https://assistive.eboardsolutions.com/SB_Meetings/SB_MeetingListing.aspx?S=920">https://assistive.eboardsolutions.com/SB_Meetings/SB_MeetingListing.aspx?S=920</a>&nbsp\;</div></div><div>--- This iCal file does *NOT* confirm registration.Event details subject to change. ---</div><div>--- Tendenci&reg\; Software by <a href="https://www.tendenci.com">tendenci.com</a> - The Open Source AMS for Associations ---</div>
SUMMARY:WCPSS Work Session and School Board meeting
PRIORITY:5
CLASS:PUBLIC
BEGIN:VALARM
TRIGGER:-PT30M
ACTION:DISPLAY
DESCRIPTION:Reminder
END:VALARM
END:VEVENT
END:VCALENDAR
