BEGIN:VCALENDAR
PRODID:-//Tendenci - The Open Source AMS for Associations//Tendenci Codebase 12 MIMEDIR//EN
VERSION:2.0
METHOD:PUBLISH
BEGIN:VEVENT
DTSTAMP:20260420T224007Z
ORGANIZER:Moms for Liberty Hamilton County OH
DTSTART:20230823T033000Z
DTEND:20230823T043000Z
LOCATION:Americana Event Center
TRANSP:OPAQUE
SEQUENCE:0
UID:uid1835@portal.momsforliberty.org
DESCRIPTION:--- This iCal file does *NOT* confirm registration.\r\nEvent details subject to change. ---\r\nhttps://portal.momsforliberty.org/events/1835/\r\n\r\nEvent Title: Monthly Chapter Meeting\r\nStart Date / Time: Aug 22, 2023 23:30 PM US/Eastern\r\nLocation: Americana Event Center\r\nSpeaker: Linda Hausfeld\r\nGoogle\r\nhttp://maps.google.com/maps?q=12+W+Benson+St,Cincinnati,OH,45215\r\n\r\nForecast\nhttp://www.weather.com/weather/monthly/45215\r\n\r\nMonthly Chapter Meeting\r\n1. Discuss effort to distribute the Constitutions\r\n2. Meet local school board candidates\r\n3. Other issues important to members and community--- This iCal file does *NOT* confirm registration.Event details subject to change. ---\r\n\r\n--- By Tendenci - The Open Source AMS for Associations ---\r\n
X-ALT-DESC;FMTTYPE=text/html:<div>--- This iCal file does *NOT* confirm registration.Event details subject to change. ---</div><h1>Event Title: Monthly Chapter Meeting</h1><div>https://portal.momsforliberty.org/events/1835/</div><br /><div>When: Aug 22, 2023 23:30 PM US/Eastern</div><div>Speaker: Linda Hausfeld</div><br />Americana Event Center<br />12 W Benson St<br />Cincinnati, OH 45215<br /><div>http://maps.google.com/maps?q=12+W+Benson+St,Cincinnati,OH,45215</div><br /><div>Forecast: http://www.weather.com/weather/monthly/45215</div><br /><br /><div><p>Monthly Chapter Meeting</p>
<p>1. Discuss effort to distribute the Constitutions</p>
<p>2. Meet local school board candidates</p>
<p>3. Other issues important to members and community</p></div><div>--- This iCal file does *NOT* confirm registration.Event details subject to change. ---</div><div>--- Tendenci&reg\; Software by <a href="https://www.tendenci.com">tendenci.com</a> - The Open Source AMS for Associations ---</div>
SUMMARY:Monthly Chapter Meeting
PRIORITY:5
CLASS:PUBLIC
BEGIN:VALARM
TRIGGER:-PT30M
ACTION:DISPLAY
DESCRIPTION:Reminder
END:VALARM
END:VEVENT
END:VCALENDAR
