BEGIN:VCALENDAR
PRODID:-//Tendenci - The Open Source AMS for Associations//Tendenci Codebase 12 MIMEDIR//EN
VERSION:2.0
METHOD:PUBLISH
BEGIN:VEVENT
DTSTAMP:20260423T052022Z
ORGANIZER:
DTSTART:20230822T050000Z
DTEND:20230822T060000Z
LOCATION:
TRANSP:OPAQUE
SEQUENCE:0
UID:uid1856@portal.momsforliberty.org
DESCRIPTION:--- This iCal file does *NOT* confirm registration.\r\nEvent details subject to change. ---\r\nhttps://portal.momsforliberty.org/events/1856/\r\n\r\nEvent Title: Growing Your Organization - Volunteer Management Webinar\r\nStart Date / Time: Aug 22, 2023 01:00 AM US/Eastern\r\nLocation: \r\n\r\nREGISTRATION REQUIRED!\r\n- FREE for M4L Members\r\n- $15 non-members\r\n \r\n*Visit https://www.momsforliberty.org/member-exclusives/ for the members only promo code.\r\n\r\n \r\nVolunteers are the lifeblood of campaigns and political organizations. In our upcoming webinar, we'll provide practical guidance on how to motivate, develop, and manage your volunteers so your organization can thrive.\r\n \r\nJoin us for this valuable webinar that will equip you with the knowledge and tools to recruit, lead, and retain the volunteers your organization needs to grow and make an impact.\r\n \r\nIdeal attendees are individuals who are looking to become more politically active. Candidates, campaign staff, and volunteers involved at any level should attend.\r\n \r\nREGISTER HERE\r\n --- This iCal file does *NOT* confirm registration.Event details subject to change. ---\r\n\r\n--- By Tendenci - The Open Source AMS for Associations ---\r\n
X-ALT-DESC;FMTTYPE=text/html:<div>--- This iCal file does *NOT* confirm registration.Event details subject to change. ---</div><h1>Event Title: Growing Your Organization - Volunteer Management Webinar</h1><div>https://portal.momsforliberty.org/events/1856/</div><br /><div>When: Aug 22, 2023 01:00 AM US/Eastern</div><br /><div><div class="xdj266r x11i5rnm xat24cr x1mh8g0r x1vvkbs">
<div class="x11i5rnm xat24cr x1mh8g0r x1vvkbs xtlvy1s"><strong>REGISTRATION REQUIRED!</strong></div>
<div class="x11i5rnm xat24cr x1mh8g0r x1vvkbs xtlvy1s" style="padding-left: 30px\;">- FREE for M4L Members</div>
<div class="x11i5rnm xat24cr x1mh8g0r x1vvkbs xtlvy1s" style="padding-left: 30px\;">- $15 non-members</div>
<div class="x11i5rnm xat24cr x1mh8g0r x1vvkbs xtlvy1s">&nbsp\;</div>
<div class="x11i5rnm xat24cr x1mh8g0r x1vvkbs xtlvy1s">*Visit <a class="x1i10hfl xjbqb8w x6umtig x1b1mbwd xaqea5y xav7gou x9f619 x1ypdohk xt0psk2 xe8uvvx xdj266r x11i5rnm xat24cr x1mh8g0r xexx8yu x4uap5 x18d9i69 xkhd6sd x16tdsg8 x1hl2dhg xggy1nq x1a2a7pz xt0b8zv x1fey0fg" tabindex="0" role="link" href="https://www.momsforliberty.org/member-exclusives/?fbclid=IwAR1CIw3Ho5RNPoaPasxUfEHtDm3stbcDPReaMFUNjKgZk-HHxh7iBU7BXes" target="_blank" rel="nofollow noreferrer noopener">https://www.momsforliberty.org/member-exclusives/</a> for the members only promo code.</div>
</div>
<div class="xdj266r x11i5rnm xat24cr x1mh8g0r x1vvkbs">&nbsp\;</div>
<div class="xdj266r x11i5rnm xat24cr x1mh8g0r x1vvkbs">Volunteers are the lifeblood of campaigns and political organizations. In our upcoming webinar, we'll provide practical guidance on how to motivate, develop, and manage your volunteers so your organization can thrive.</div>
<div class="x11i5rnm xat24cr x1mh8g0r x1vvkbs xtlvy1s">&nbsp\;</div>
<div class="x11i5rnm xat24cr x1mh8g0r x1vvkbs xtlvy1s">Join us for this valuable webinar that will equip you with the knowledge and tools to recruit, lead, and retain the volunteers your organization needs to grow and make an impact.</div>
<div class="x11i5rnm xat24cr x1mh8g0r x1vvkbs xtlvy1s">&nbsp\;</div>
<div class="x11i5rnm xat24cr x1mh8g0r x1vvkbs xtlvy1s">Ideal attendees are individuals who are looking to become more politically active. Candidates, campaign staff, and volunteers involved at any level should attend.</div>
<div class="x11i5rnm xat24cr x1mh8g0r x1vvkbs xtlvy1s">&nbsp\;</div>
<div class="x11i5rnm xat24cr x1mh8g0r x1vvkbs xtlvy1s" style="text-align: center\;"><a class="btn btn-default" href="https://www.litraining.org/event/72a73d0f-028c-4acf-9c68-86ec214d77f2/summary?fbclid=IwAR3oVQi6YiVZtvGfVDZCZc3kSxFbPXZTFGFx-oCKHWf0S4_60J9Nm8sEicA">REGISTER HERE</a></div>
<div class="x11i5rnm xat24cr x1mh8g0r x1vvkbs xtlvy1s">&nbsp\;</div></div><div>--- This iCal file does *NOT* confirm registration.Event details subject to change. ---</div><div>--- Tendenci&reg\; Software by <a href="https://www.tendenci.com">tendenci.com</a> - The Open Source AMS for Associations ---</div>
SUMMARY:Growing Your Organization - Volunteer Management Webinar
PRIORITY:5
CLASS:PUBLIC
BEGIN:VALARM
TRIGGER:-PT30M
ACTION:DISPLAY
DESCRIPTION:Reminder
END:VALARM
END:VEVENT
END:VCALENDAR
