BEGIN:VCALENDAR
PRODID:-//Tendenci - The Open Source AMS for Associations//Tendenci Codebase 12 MIMEDIR//EN
VERSION:2.0
METHOD:PUBLISH
BEGIN:VEVENT
DTSTAMP:20260422T153314Z
ORGANIZER:
DTSTART:20230915T000000Z
DTEND:20230915T020000Z
LOCATION:Pathfinder Academy
TRANSP:OPAQUE
SEQUENCE:0
UID:uid1872@portal.momsforliberty.org
DESCRIPTION:--- This iCal file does *NOT* confirm registration.\r\nEvent details subject to change. ---\r\nhttps://portal.momsforliberty.org/events/1872/\r\n\r\nEvent Title: Giving Parents a Voice Townhall\r\nStart Date / Time: Sep 14, 2023 19:00 PM Pacific/Easter\r\nLocation: Pathfinder Academy\r\nGoogle\r\nhttp://maps.google.com/maps?q=2906+N+Boulder+Canyon,Mesa,AZ,80302\r\n\r\nForecast\nhttp://www.weather.com/weather/monthly/80302\r\n\r\nGet your questions answered and have your voice heard.\r\nAn honest conversation on the state of education and parental rights in Arizona. \r\n \r\nConfirmed Speakers\r\nTom Horne, AZ State Superintendent \r\nMary Millben, Award Winning Singer &amp\; White House Presidential Appointee\r\nParental Rights in Education Panel:\r\nModerated by Tina Descovich, Co-founder, Moms for Liberty \r\nJake Hoffman, AZ State Senator\r\nJustin Heap, AZ State Representative\r\nMore Speakers TBA\r\n \r\nRSVP today!\r\nSpace is limited and seating will be first come first served.--- This iCal file does *NOT* confirm registration.Event details subject to change. ---\r\n\r\n--- By Tendenci - The Open Source AMS for Associations ---\r\n
X-ALT-DESC;FMTTYPE=text/html:<div>--- This iCal file does *NOT* confirm registration.Event details subject to change. ---</div><h1>Event Title: Giving Parents a Voice Townhall</h1><div>https://portal.momsforliberty.org/events/1872/</div><br /><div>When: Sep 14, 2023 19:00 PM Pacific/Easter</div><br />Pathfinder Academy<br />2906 N Boulder Canyon<br />Mesa, AZ 80302<br /><div>http://maps.google.com/maps?q=2906+N+Boulder+Canyon,Mesa,AZ,80302</div><br /><div>Forecast: http://www.weather.com/weather/monthly/80302</div><br /><br /><div><p><strong><span style="font-family: 'Calibri',sans-serif\;">Get your questions answered and have your voice heard.</span></strong></p>
<p>An honest conversation on the state of education and parental rights in Arizona.&nbsp\;</p>
<p>&nbsp\;</p>
<p style="text-align: center\;"><strong>Confirmed Speakers</strong></p>
<p style="text-align: center\;">Tom Horne, AZ State Superintendent&nbsp\;</p>
<p style="text-align: center\;" align="center">Mary Millben, Award Winning Singer &amp\; White House Presidential Appointee</p>
<p style="text-align: center\;" align="center"><em>Parental Rights in Education Panel:</em></p>
<p style="text-align: center\;" align="center">Moderated by Tina Descovich, Co-founder, Moms for Liberty&nbsp\;</p>
<p style="text-align: center\;" align="center">Jake Hoffman, AZ State Senator</p>
<p style="text-align: center\;" align="center">Justin Heap, AZ State Representative</p>
<p style="text-align: center\;" align="center">More Speakers TBA</p>
<p style="text-align: center\;" align="center">&nbsp\;</p>
<p>RSVP today!</p>
<p>Space is limited and seating will be first come first served.</p></div><div>--- This iCal file does *NOT* confirm registration.Event details subject to change. ---</div><div>--- Tendenci&reg\; Software by <a href="https://www.tendenci.com">tendenci.com</a> - The Open Source AMS for Associations ---</div>
SUMMARY:Giving Parents a Voice Townhall
PRIORITY:5
CLASS:PUBLIC
BEGIN:VALARM
TRIGGER:-PT30M
ACTION:DISPLAY
DESCRIPTION:Reminder
END:VALARM
END:VEVENT
END:VCALENDAR
