BEGIN:VCALENDAR
PRODID:-//Tendenci - The Open Source AMS for Associations//Tendenci Codebase 12 MIMEDIR//EN
VERSION:2.0
METHOD:PUBLISH
BEGIN:VEVENT
DTSTAMP:20260424T014542Z
ORGANIZER:
DTSTART:20230909T140000Z
DTEND:20230909T160000Z
LOCATION:The Motion Church
TRANSP:OPAQUE
SEQUENCE:0
UID:uid1885@portal.momsforliberty.org
DESCRIPTION:--- This iCal file does *NOT* confirm registration.\r\nEvent details subject to change. ---\r\nhttps://portal.momsforliberty.org/events/1885/\r\n\r\nEvent Title: Moms for Liberty Pierce County Monthly Meeting\r\nStart Date / Time: Sep 09, 2023 07:00 AM US/Pacific\r\nLocation: The Motion Church\r\nSpeaker: Dr. Ernie Zarra\r\nGoogle\r\nhttp://maps.google.com/maps?q=601+9th+Ave.+SE,Puyallup,WA\r\n\r\nForecast\nhttp://www.weather.com/weather/monthly/\r\n\r\nWe hope you'll join us for our September Chapter meeting where we'll give updates on local and national happenings. In addition, we are excited to welcome Dr. Ernie Zarra, who will speak to us regarding preparing parents and grandparents for the upcoming school year. \r\nIf you wish to, a few of us are planning to gather at a local eatery near by after the meeting for a social gathering and breakfast. Any are welcome to attend. Futher information will be given at the meeting Saturday. --- This iCal file does *NOT* confirm registration.Event details subject to change. ---\r\n\r\n--- By Tendenci - The Open Source AMS for Associations ---\r\n
X-ALT-DESC;FMTTYPE=text/html:<div>--- This iCal file does *NOT* confirm registration.Event details subject to change. ---</div><h1>Event Title: Moms for Liberty Pierce County Monthly Meeting</h1><div>https://portal.momsforliberty.org/events/1885/</div><br /><div>When: Sep 09, 2023 07:00 AM US/Pacific</div><div>Speaker: Dr. Ernie Zarra</div><br />The Motion Church<br />601 9th Ave. SE<br />Puyallup, WA<br /><div>http://maps.google.com/maps?q=601+9th+Ave.+SE,Puyallup,WA</div><br /><div>Forecast: http://www.weather.com/weather/monthly/</div><br /><br /><div><p>We hope you'll join us for our September Chapter meeting where we'll give updates on local and national happenings. In addition, we are excited to welcome Dr. Ernie Zarra, who will speak to us regarding preparing parents and grandparents for the upcoming school year.&nbsp\;</p>
<p>If you wish to, a few of us are planning to gather at a local eatery near by after the meeting for a social gathering and breakfast. Any are welcome to attend. Futher information will be given at the meeting Saturday.&nbsp\;</p></div><div>--- This iCal file does *NOT* confirm registration.Event details subject to change. ---</div><div>--- Tendenci&reg\; Software by <a href="https://www.tendenci.com">tendenci.com</a> - The Open Source AMS for Associations ---</div>
SUMMARY:Moms for Liberty Pierce County Monthly Meeting
PRIORITY:5
CLASS:PUBLIC
BEGIN:VALARM
TRIGGER:-PT30M
ACTION:DISPLAY
DESCRIPTION:Reminder
END:VALARM
END:VEVENT
END:VCALENDAR
