BEGIN:VCALENDAR
PRODID:-//Tendenci - The Open Source AMS for Associations//Tendenci Codebase 12 MIMEDIR//EN
VERSION:2.0
METHOD:PUBLISH
BEGIN:VEVENT
DTSTAMP:20260422T114420Z
ORGANIZER:Whitney and Shara
DTSTART:20211221T060000Z
DTEND:20211221T064500Z
LOCATION:
TRANSP:OPAQUE
SEQUENCE:0
UID:uid189@portal.momsforliberty.org
DESCRIPTION:--- This iCal file does *NOT* confirm registration.\r\nEvent details subject to change. ---\r\nhttps://portal.momsforliberty.org/events/189/\r\n\r\nEvent Title: Moms For Liberty- Washtenaw County Chapter\r\nStart Date / Time: Dec 21, 2021 00:00 AM US/Central\r\nLocation: \r\nGoogle\r\nhttp://maps.google.com/maps?q=UAW+Hall,Saline,MI,48176\r\n\r\nForecast\nhttp://www.weather.com/weather/monthly/48176\r\n\r\n1st meeting: Date/Time/Location\r\n \r\nGood morning moms and supporting family.\r\nOur first meeting will be held at the Local Saline UAW hall. \r\n \r\nDate: Monday, December 20th.\r\nTime: 6:00 pm - 6:45 pm\r\nLocation: 601 Woodland Dr E, Saline, MI 48176\r\n \r\nThis will be an introductory meeting: \r\n- to review concerns, \r\n- go over the code of conduct, \r\n- and start the planning process and voice concerns.\r\n \r\nJust for communication purposes, child care will not be provided. \r\n \r\nBring a notebook, pen, your voice and ears. \r\nSee you there. \r\n \r\nThank you all in advance, we look forward to seeing each parent/guardian there.--- This iCal file does *NOT* confirm registration.Event details subject to change. ---\r\n\r\n--- By Tendenci - The Open Source AMS for Associations ---\r\n
X-ALT-DESC;FMTTYPE=text/html:<div>--- This iCal file does *NOT* confirm registration.Event details subject to change. ---</div><h1>Event Title: Moms For Liberty- Washtenaw County Chapter</h1><div>https://portal.momsforliberty.org/events/189/</div><br /><div>When: Dec 21, 2021 00:00 AM US/Central</div><br /><br />UAW Hall<br />Saline, MI 48176<br /><div>http://maps.google.com/maps?q=UAW+Hall,Saline,MI,48176</div><br /><div>Forecast: http://www.weather.com/weather/monthly/48176</div><br /><br /><div><p>1st meeting: Date/Time/Location</p>
<p>&nbsp\;</p>
<p>Good morning moms and supporting family.</p>
<p>Our first meeting will be held at the Local Saline UAW hall.&nbsp\;</p>
<p>&nbsp\;</p>
<p>Date: Monday, December 20th.</p>
<p>Time: 6:00 pm - 6:45 pm</p>
<p>Location: 601 Woodland Dr E, Saline, MI 48176</p>
<p>&nbsp\;</p>
<p>This will be an introductory meeting:&nbsp\;</p>
<p>- to review concerns,&nbsp\;</p>
<p>- go over the code of conduct,&nbsp\;</p>
<p>- and start the planning process and voice concerns.</p>
<p>&nbsp\;</p>
<p>Just for communication purposes, child care will not be provided.&nbsp\;</p>
<p>&nbsp\;</p>
<p>Bring a notebook, pen, your voice and ears.&nbsp\;</p>
<p>See you there.&nbsp\;</p>
<p>&nbsp\;</p>
<p>Thank you all in advance, we look forward to seeing each parent/guardian there.</p></div><div>--- This iCal file does *NOT* confirm registration.Event details subject to change. ---</div><div>--- Tendenci&reg\; Software by <a href="https://www.tendenci.com">tendenci.com</a> - The Open Source AMS for Associations ---</div>
SUMMARY:Moms For Liberty- Washtenaw County Chapter
PRIORITY:5
CLASS:PUBLIC
BEGIN:VALARM
TRIGGER:-PT30M
ACTION:DISPLAY
DESCRIPTION:Reminder
END:VALARM
END:VEVENT
END:VCALENDAR
