BEGIN:VCALENDAR
PRODID:-//Tendenci - The Open Source AMS for Associations//Tendenci Codebase 12 MIMEDIR//EN
VERSION:2.0
METHOD:PUBLISH
BEGIN:VEVENT
DTSTAMP:20260422T001146Z
ORGANIZER:
DTSTART:20230906T095200Z
DTEND:20230906T115200Z
LOCATION:NJBoE
TRANSP:OPAQUE
SEQUENCE:0
UID:uid1895@portal.momsforliberty.org
DESCRIPTION:--- This iCal file does *NOT* confirm registration.\r\nEvent details subject to change. ---\r\nhttps://portal.momsforliberty.org/events/1895/\r\n\r\nEvent Title: Parental Rights Testimony\r\nStart Date / Time: Sep 06, 2023 09:52 AM UTC\r\nLocation: NJBoE\r\nGoogle\r\nhttp://maps.google.com/maps?q=100+riverview+plaza,trenton,NJ\r\n\r\nForecast\nhttp://www.weather.com/weather/monthly/\r\n\r\nJoin us in Trenton at the NJBOE to testify and re vote on keeing parental rihjt s and notification in schools , bring back gender male and female terms --- This iCal file does *NOT* confirm registration.Event details subject to change. ---\r\n\r\n--- By Tendenci - The Open Source AMS for Associations ---\r\n
X-ALT-DESC;FMTTYPE=text/html:<div>--- This iCal file does *NOT* confirm registration.Event details subject to change. ---</div><h1>Event Title: Parental Rights Testimony</h1><div>https://portal.momsforliberty.org/events/1895/</div><br /><div>When: Sep 06, 2023 09:52 AM UTC</div><br />NJBoE<br />100 riverview plaza<br />trenton, NJ<br /><div>http://maps.google.com/maps?q=100+riverview+plaza,trenton,NJ</div><br /><div>Forecast: http://www.weather.com/weather/monthly/</div><br /><br /><div><p>Join us in Trenton at the NJBOE to testify and re vote on keeing parental rihjt s and notification in schools , bring back gender male and female terms&nbsp\;</p></div><div>--- This iCal file does *NOT* confirm registration.Event details subject to change. ---</div><div>--- Tendenci&reg\; Software by <a href="https://www.tendenci.com">tendenci.com</a> - The Open Source AMS for Associations ---</div>
SUMMARY:Parental Rights Testimony
PRIORITY:5
CLASS:PUBLIC
BEGIN:VALARM
TRIGGER:-PT30M
ACTION:DISPLAY
DESCRIPTION:Reminder
END:VALARM
END:VEVENT
END:VCALENDAR
