BEGIN:VCALENDAR
PRODID:-//Tendenci - The Open Source AMS for Associations//Tendenci Codebase 12 MIMEDIR//EN
VERSION:2.0
METHOD:PUBLISH
BEGIN:VEVENT
DTSTAMP:20260420T223954Z
ORGANIZER:Moms for Liberty Howard County MD
DTSTART:20230925T223000Z
DTEND:20230926T003000Z
LOCATION:Howard County Library System, Elkridge Branch
TRANSP:OPAQUE
SEQUENCE:0
UID:uid1898@portal.momsforliberty.org
DESCRIPTION:--- This iCal file does *NOT* confirm registration.\r\nEvent details subject to change. ---\r\nhttps://portal.momsforliberty.org/events/1898/\r\n\r\nEvent Title: Moms for Liberty Howard County MD September 2023 Chapter Meeting\r\nStart Date / Time: Sep 25, 2023 18:30 PM America/New_York\r\nLocation: Howard County Library System, Elkridge Branch\r\nSpeaker: Stephen Wallis\r\nGoogle\r\nhttp://maps.google.com/maps?q=6540+Washington+Blvd,Elkridge,MD,21075\r\n\r\nForecast\nhttp://www.weather.com/weather/monthly/21075\r\n\r\nThis is our September Chapter Meeting featuring our\r\nSpecial Guest SpeakerStephen Wallis, Author of:\r\nDEAD LAST, THE TRIUMPH OF CHARACTER, PASSION, ANDTEAMWORK IN EDUCATION\r\nStephen Wallis is a retired high school English teacher and school administrator. He isthe recipient of numerous awards, including the American Federation of School Administrators Distinguished Leadership Award, which cited him among "The Top Eight School Principals in the Nation." His publications include chapters in books by The Heritage Foundation and The Calvert Institute of Public Policy. He was co-founder and president of the proposed Business Preparatory Institute, a charter highschool for urban youths.\r\nFor more information call 410-241-7236moms4libertyhowardmd@gmail.com--- This iCal file does *NOT* confirm registration.Event details subject to change. ---\r\n\r\n--- By Tendenci - The Open Source AMS for Associations ---\r\n
X-ALT-DESC;FMTTYPE=text/html:<div>--- This iCal file does *NOT* confirm registration.Event details subject to change. ---</div><h1>Event Title: Moms for Liberty Howard County MD September 2023 Chapter Meeting</h1><div>https://portal.momsforliberty.org/events/1898/</div><br /><div>When: Sep 25, 2023 18:30 PM America/New_York</div><div>Speaker: Stephen Wallis</div><br />Howard County Library System, Elkridge Branch<br />6540 Washington Blvd<br />Elkridge, MD 21075<br /><div>http://maps.google.com/maps?q=6540+Washington+Blvd,Elkridge,MD,21075</div><br /><div>Forecast: http://www.weather.com/weather/monthly/21075</div><br /><br /><div><p>This is our September Chapter Meeting featuring our</p>
<p>Special Guest Speaker<br />Stephen Wallis,&nbsp\;Author of:</p>
<p><br />DEAD LAST, THE TRIUMPH OF CHARACTER, PASSION, AND<br />TEAMWORK IN EDUCATION</p>
<p>Stephen Wallis is a retired high school English teacher and school administrator. He is<br />the recipient of numerous awards, including the American Federation of School Administrators Distinguished Leadership Award, which cited him among "The Top Eight School Principals in the Nation." His publications include chapters in books by The Heritage Foundation and The Calvert Institute of Public Policy. He was co-founder and president of the proposed Business Preparatory Institute, a charter high<br />school for urban youths.</p>
<p><br />For more information call 410-241-7236<br /><a href="mailto:moms4libertyhowardmd@gmail.com" target="_blank" rel="noopener">moms4libertyhowardmd@gmail.com</a></p></div><div>--- This iCal file does *NOT* confirm registration.Event details subject to change. ---</div><div>--- Tendenci&reg\; Software by <a href="https://www.tendenci.com">tendenci.com</a> - The Open Source AMS for Associations ---</div>
SUMMARY:Moms for Liberty Howard County MD September 2023 Chapter Meeting
PRIORITY:5
CLASS:PUBLIC
BEGIN:VALARM
TRIGGER:-PT30M
ACTION:DISPLAY
DESCRIPTION:Reminder
END:VALARM
END:VEVENT
END:VCALENDAR
