BEGIN:VCALENDAR
PRODID:-//Tendenci - The Open Source AMS for Associations//Tendenci Codebase 12 MIMEDIR//EN
VERSION:2.0
METHOD:PUBLISH
BEGIN:VEVENT
DTSTAMP:20260421T013932Z
ORGANIZER:
DTSTART:20231014T140000Z
DTEND:20231014T160000Z
LOCATION:The Motion Church
TRANSP:OPAQUE
SEQUENCE:0
UID:uid1913@portal.momsforliberty.org
DESCRIPTION:--- This iCal file does *NOT* confirm registration.\r\nEvent details subject to change. ---\r\nhttps://portal.momsforliberty.org/events/1913/\r\n\r\nEvent Title: Moms for Liberty Pierce County Monthly Meeting\r\nStart Date / Time: Oct 14, 2023 07:00 AM US/Pacific\r\nLocation: The Motion Church\r\nGoogle\r\nhttp://maps.google.com/maps?q=601+9th+Ave+SE,Puyallup,98335\r\n\r\nForecast\nhttp://www.weather.com/weather/monthly/98335\r\n\r\nOur monthly meetings are all about ACTION. Come learn how you can help promote parental rights and excellence in education locally, and legislatively and meet like-minded friends. \r\nFind out how you can help push strong, liberty-minded candidates across the finish line in several Pierce County Districts! They need us! \r\nAfter the meeting, some of us will go out to a local cafe for breakfast. Please feel free to join us and please note on your registration if you wish to join us at the cafe so we can give the cafe a head count. Thank you! \r\n \r\n --- This iCal file does *NOT* confirm registration.Event details subject to change. ---\r\n\r\n--- By Tendenci - The Open Source AMS for Associations ---\r\n
X-ALT-DESC;FMTTYPE=text/html:<div>--- This iCal file does *NOT* confirm registration.Event details subject to change. ---</div><h1>Event Title: Moms for Liberty Pierce County Monthly Meeting</h1><div>https://portal.momsforliberty.org/events/1913/</div><br /><div>When: Oct 14, 2023 07:00 AM US/Pacific</div><br />The Motion Church<br />601 9th Ave SE<br /> 98335<br /><div>http://maps.google.com/maps?q=601+9th+Ave+SE,Puyallup,98335</div><br /><div>Forecast: http://www.weather.com/weather/monthly/98335</div><br /><br /><div><p>Our monthly meetings are all about <em>ACTION.&nbsp\;</em>Come learn how you can help promote parental rights and excellence in education locally, and legislatively and meet like-minded friends.&nbsp\;</p>
<p>Find out how you can help push strong, liberty-minded candidates across the finish line in several Pierce County Districts! They need us!&nbsp\;</p>
<p>After the meeting, some of us will go out to a local cafe for breakfast. Please feel free to join us and please note on your registration if you wish to join us at the cafe so we can give the cafe a head count. Thank you!&nbsp\;</p>
<p>&nbsp\;</p>
<p>&nbsp\;</p></div><div>--- This iCal file does *NOT* confirm registration.Event details subject to change. ---</div><div>--- Tendenci&reg\; Software by <a href="https://www.tendenci.com">tendenci.com</a> - The Open Source AMS for Associations ---</div>
SUMMARY:Moms for Liberty Pierce County Monthly Meeting
PRIORITY:5
CLASS:PUBLIC
BEGIN:VALARM
TRIGGER:-PT30M
ACTION:DISPLAY
DESCRIPTION:Reminder
END:VALARM
END:VEVENT
END:VCALENDAR
