BEGIN:VCALENDAR
PRODID:-//Tendenci - The Open Source AMS for Associations//Tendenci Codebase 12 MIMEDIR//EN
VERSION:2.0
METHOD:PUBLISH
BEGIN:VEVENT
DTSTAMP:20260422T144604Z
ORGANIZER:
DTSTART:20231003T230000Z
DTEND:20231004T010000Z
LOCATION:Bucks County, PA
TRANSP:OPAQUE
SEQUENCE:0
UID:uid1917@portal.momsforliberty.org
DESCRIPTION:--- This iCal file does *NOT* confirm registration.\r\nEvent details subject to change. ---\r\nhttps://portal.momsforliberty.org/events/1917/\r\n\r\nEvent Title: Monthly Meeting - Bucks County, PA\r\nStart Date / Time: Oct 03, 2023 19:00 PM US/Eastern\r\nLocation: Bucks County, PA\r\nSpeaker: Mark Houck\r\nJoin us for our October membership meeting as we host Mark Houck, candidate for Congressional seat PA-01. We will be discussing parental rights and the state of public education. Members are encouraged to submit questions they would like answered during this town hall format meeting. --- This iCal file does *NOT* confirm registration.Event details subject to change. ---\r\n\r\n--- By Tendenci - The Open Source AMS for Associations ---\r\n
X-ALT-DESC;FMTTYPE=text/html:<div>--- This iCal file does *NOT* confirm registration.Event details subject to change. ---</div><h1>Event Title: Monthly Meeting - Bucks County, PA</h1><div>https://portal.momsforliberty.org/events/1917/</div><br /><div>When: Oct 03, 2023 19:00 PM US/Eastern</div><div>Speaker: Mark Houck</div><br /><div><p>Join us for our October membership meeting as we host Mark Houck, candidate for Congressional seat PA-01. We will be discussing parental rights and the state of public education. Members are encouraged to submit questions they would like answered during this town hall format meeting.&nbsp\;</p></div><div>--- This iCal file does *NOT* confirm registration.Event details subject to change. ---</div><div>--- Tendenci&reg\; Software by <a href="https://www.tendenci.com">tendenci.com</a> - The Open Source AMS for Associations ---</div>
SUMMARY:Monthly Meeting - Bucks County, PA
PRIORITY:5
CLASS:PUBLIC
BEGIN:VALARM
TRIGGER:-PT30M
ACTION:DISPLAY
DESCRIPTION:Reminder
END:VALARM
END:VEVENT
END:VCALENDAR
