BEGIN:VCALENDAR
PRODID:-//Tendenci - The Open Source AMS for Associations//Tendenci Codebase 12 MIMEDIR//EN
VERSION:2.0
METHOD:PUBLISH
BEGIN:VEVENT
DTSTAMP:20260426T050916Z
ORGANIZER:
DTSTART:20231012T220000Z
DTEND:20231013T003000Z
LOCATION:
TRANSP:OPAQUE
SEQUENCE:0
UID:uid1926@portal.momsforliberty.org
DESCRIPTION:--- This iCal file does *NOT* confirm registration.\r\nEvent details subject to change. ---\r\nhttps://portal.momsforliberty.org/events/1926/\r\n\r\nEvent Title: Chapter Meeting and Membership Drive\r\nStart Date / Time: Oct 12, 2023 18:00 PM US/Eastern\r\nLocation: \r\nSave the Date for the October Chapter Meeting and Membership Drive on Thursday 10/12/23 at 6:00pm at a restaurant central to Wake County. For discretion purposes, we are keeping the meeting details out of the public domain. The restaurant name and location will be emailed to you with acceptance of your reservation request, approximately 1 day before the meeting. Food will be available for purchase.\r\nSpace is limited, REGISTER TO ATTEND as soon as possible and by 10/11/23!\r\nIf you have any questions, please email us at moms4libertywakenc@gmail.com.\r\nThank you for being a part of Moms for Liberty - Wake County, NC!--- This iCal file does *NOT* confirm registration.Event details subject to change. ---\r\n\r\n--- By Tendenci - The Open Source AMS for Associations ---\r\n
X-ALT-DESC;FMTTYPE=text/html:<div>--- This iCal file does *NOT* confirm registration.Event details subject to change. ---</div><h1>Event Title: Chapter Meeting and Membership Drive</h1><div>https://portal.momsforliberty.org/events/1926/</div><br /><div>When: Oct 12, 2023 18:00 PM US/Eastern</div><br /><div><p>Save the Date for the October Chapter Meeting&nbsp\;and Membership Drive on <strong>Thursday 10/12/23 at 6:00pm</strong>&nbsp\;at a restaurant central to Wake County. For discretion purposes, we are&nbsp\;keeping the meeting details out of the public domain.&nbsp\;The restaurant name and location&nbsp\;will be emailed to you with&nbsp\;acceptance of your reservation request, approximately 1 day&nbsp\;before the meeting. Food will be available for purchase.</p>
<p>Space is limited,<strong><span style="color: #000080\;"> <a href="https://www.signupgenius.com/go/10C0F49ABAB2CA2FBC34-44591205-october">REGISTER TO ATTEND</a> </span></strong>as soon as possible&nbsp\;and by&nbsp\;<strong>10/11/23</strong>!</p>
<p>If you have any questions, please email us&nbsp\;at <a href="mailto:moms4libertywakenc@gmail.com">moms4libertywakenc@gmail.com</a>.</p>
<p><strong>Thank you for being a part of&nbsp\;Moms for Liberty - Wake County, NC!</strong></p></div><div>--- This iCal file does *NOT* confirm registration.Event details subject to change. ---</div><div>--- Tendenci&reg\; Software by <a href="https://www.tendenci.com">tendenci.com</a> - The Open Source AMS for Associations ---</div>
SUMMARY:Chapter Meeting and Membership Drive
PRIORITY:5
CLASS:PUBLIC
BEGIN:VALARM
TRIGGER:-PT30M
ACTION:DISPLAY
DESCRIPTION:Reminder
END:VALARM
END:VEVENT
END:VCALENDAR
