BEGIN:VCALENDAR
PRODID:-//Tendenci - The Open Source AMS for Associations//Tendenci Codebase 12 MIMEDIR//EN
VERSION:2.0
METHOD:PUBLISH
BEGIN:VEVENT
DTSTAMP:20260426T024934Z
ORGANIZER:
DTSTART:20231026T190000Z
DTEND:20231026T200000Z
LOCATION:Living Hope Church
TRANSP:OPAQUE
SEQUENCE:0
UID:uid1941@portal.momsforliberty.org
DESCRIPTION:--- This iCal file does *NOT* confirm registration.\r\nEvent details subject to change. ---\r\nhttps://portal.momsforliberty.org/events/1941/\r\n\r\nEvent Title: October Chapter Meeting\r\nStart Date / Time: Oct 26, 2023 19:00 PM UTC\r\nLocation: Living Hope Church\r\nGoogle\r\nhttp://maps.google.com/maps?q=3030+Schoolhouse+Rd,Middletown,PA,17057\r\n\r\nForecast\nhttp://www.weather.com/weather/monthly/17057\r\n\r\nOur October Chapter meeting is on Thursday, October 26 at 7:00 PM in Middletown. All are welcome to attend. We'll be discussing how to find out what's in your child's school library, what books to be aware of, what to do when you find them, and what school boards can do about it.--- This iCal file does *NOT* confirm registration.Event details subject to change. ---\r\n\r\n--- By Tendenci - The Open Source AMS for Associations ---\r\n
X-ALT-DESC;FMTTYPE=text/html:<div>--- This iCal file does *NOT* confirm registration.Event details subject to change. ---</div><h1>Event Title: October Chapter Meeting</h1><div>https://portal.momsforliberty.org/events/1941/</div><br /><div>When: Oct 26, 2023 19:00 PM UTC</div><br />Living Hope Church<br />3030 Schoolhouse Rd<br />Middletown, PA 17057<br /><div>http://maps.google.com/maps?q=3030+Schoolhouse+Rd,Middletown,PA,17057</div><br /><div>Forecast: http://www.weather.com/weather/monthly/17057</div><br /><br /><div><p>Our October Chapter meeting is on Thursday, October 26 at 7:00 PM in Middletown. All are welcome to attend. We'll be discussing how to find out what's in your child's school library, what books to be aware of, what to do when you find them, and what school boards can do about it.</p></div><div>--- This iCal file does *NOT* confirm registration.Event details subject to change. ---</div><div>--- Tendenci&reg\; Software by <a href="https://www.tendenci.com">tendenci.com</a> - The Open Source AMS for Associations ---</div>
SUMMARY:October Chapter Meeting
PRIORITY:5
CLASS:PUBLIC
BEGIN:VALARM
TRIGGER:-PT30M
ACTION:DISPLAY
DESCRIPTION:Reminder
END:VALARM
END:VEVENT
END:VCALENDAR
