BEGIN:VCALENDAR
PRODID:-//Tendenci - The Open Source AMS for Associations//Tendenci Codebase 12 MIMEDIR//EN
VERSION:2.0
METHOD:PUBLISH
BEGIN:VEVENT
DTSTAMP:20260420T092204Z
ORGANIZER:Tanya Kacsan
DTSTART:20231030T220000Z
DTEND:20231031T000000Z
LOCATION:La Nopalera
TRANSP:OPAQUE
SEQUENCE:0
UID:uid1954@portal.momsforliberty.org
DESCRIPTION:--- This iCal file does *NOT* confirm registration.\r\nEvent details subject to change. ---\r\nhttps://portal.momsforliberty.org/events/1954/\r\n\r\nEvent Title: Moms for Liberty Clay County October Meeting\r\nStart Date / Time: Oct 30, 2023 18:00 PM US/Eastern\r\nLocation: La Nopalera\r\nGoogle\r\nhttp://maps.google.com/maps?q=2024+Kingsley+Ave,,Orange Park,FL,32073\r\n\r\nForecast\nhttp://www.weather.com/weather/monthly/32073\r\n\r\n--- This iCal file does *NOT* confirm registration.Event details subject to change. ---\r\n\r\n--- By Tendenci - The Open Source AMS for Associations ---\r\n
X-ALT-DESC;FMTTYPE=text/html:<div>--- This iCal file does *NOT* confirm registration.Event details subject to change. ---</div><h1>Event Title: Moms for Liberty Clay County October Meeting</h1><div>https://portal.momsforliberty.org/events/1954/</div><br /><div>When: Oct 30, 2023 18:00 PM US/Eastern</div><br />La Nopalera<br />2024 Kingsley Ave,<br />Orange Park, FL 32073<br /><div>http://maps.google.com/maps?q=2024+Kingsley+Ave,,Orange Park,FL,32073</div><br /><div>Forecast: http://www.weather.com/weather/monthly/32073</div><br /><br /><div></div><div>--- This iCal file does *NOT* confirm registration.Event details subject to change. ---</div><div>--- Tendenci&reg\; Software by <a href="https://www.tendenci.com">tendenci.com</a> - The Open Source AMS for Associations ---</div>
SUMMARY:Moms for Liberty Clay County October Meeting
PRIORITY:5
CLASS:PUBLIC
BEGIN:VALARM
TRIGGER:-PT30M
ACTION:DISPLAY
DESCRIPTION:Reminder
END:VALARM
END:VEVENT
END:VCALENDAR
