BEGIN:VCALENDAR
PRODID:-//Tendenci - The Open Source AMS for Associations//Tendenci Codebase 12 MIMEDIR//EN
VERSION:2.0
METHOD:PUBLISH
BEGIN:VEVENT
DTSTAMP:20260423T163039Z
ORGANIZER:
DTSTART:20231111T150000Z
DTEND:20231111T170000Z
LOCATION:The Motion Church
TRANSP:OPAQUE
SEQUENCE:0
UID:uid1956@portal.momsforliberty.org
DESCRIPTION:--- This iCal file does *NOT* confirm registration.\r\nEvent details subject to change. ---\r\nhttps://portal.momsforliberty.org/events/1956/\r\n\r\nEvent Title: Moms for Liberty Pierce County Monthly Meeting\r\nStart Date / Time: Nov 11, 2023 07:00 AM US/Pacific\r\nLocation: The Motion Church\r\nGoogle\r\nhttp://maps.google.com/maps?q=601+9th+Ave+SE,Puyallup,98335\r\n\r\nForecast\nhttp://www.weather.com/weather/monthly/98335\r\n\r\nThe election is over and it's time to gear up for 2024! \r\nLots to discuss around parental rights and education as we head into the 2024 Legislative session in January. \r\nWe hope to see you there! --- This iCal file does *NOT* confirm registration.Event details subject to change. ---\r\n\r\n--- By Tendenci - The Open Source AMS for Associations ---\r\n
X-ALT-DESC;FMTTYPE=text/html:<div>--- This iCal file does *NOT* confirm registration.Event details subject to change. ---</div><h1>Event Title: Moms for Liberty Pierce County Monthly Meeting</h1><div>https://portal.momsforliberty.org/events/1956/</div><br /><div>When: Nov 11, 2023 07:00 AM US/Pacific</div><br />The Motion Church<br />601 9th Ave SE<br /> 98335<br /><div>http://maps.google.com/maps?q=601+9th+Ave+SE,Puyallup,98335</div><br /><div>Forecast: http://www.weather.com/weather/monthly/98335</div><br /><br /><div><p>The election is over and it's time to gear up for 2024!&nbsp\;</p>
<p>Lots to discuss around parental rights and education as we head into the 2024 Legislative session in January.&nbsp\;</p>
<p>We hope to see you there!&nbsp\;</p></div><div>--- This iCal file does *NOT* confirm registration.Event details subject to change. ---</div><div>--- Tendenci&reg\; Software by <a href="https://www.tendenci.com">tendenci.com</a> - The Open Source AMS for Associations ---</div>
SUMMARY:Moms for Liberty Pierce County Monthly Meeting
PRIORITY:5
CLASS:PUBLIC
BEGIN:VALARM
TRIGGER:-PT30M
ACTION:DISPLAY
DESCRIPTION:Reminder
END:VALARM
END:VEVENT
END:VCALENDAR
