BEGIN:VCALENDAR
PRODID:-//Tendenci - The Open Source AMS for Associations//Tendenci Codebase 12 MIMEDIR//EN
VERSION:2.0
METHOD:PUBLISH
BEGIN:VEVENT
DTSTAMP:20260422T090949Z
ORGANIZER:Moms for Liberty - Hernando County, FL
DTSTART:20231102T180000Z
DTEND:20231102T200000Z
LOCATION:Coney Island - Side Party Room (Members and Guests Only)
TRANSP:OPAQUE
SEQUENCE:0
UID:uid1977@portal.momsforliberty.org
DESCRIPTION:--- This iCal file does *NOT* confirm registration.\r\nEvent details subject to change. ---\r\nhttps://portal.momsforliberty.org/events/1977/\r\n\r\nEvent Title: Monthly Chapter Meeting\r\nStart Date / Time: Nov 02, 2023 18:00 PM UTC\r\nLocation: Coney Island - Side Party Room (Members and Guests Only)\r\nSpeaker: No Speaker this Month - Annual Meeting\r\nGoogle\r\nhttp://maps.google.com/maps?q=1112+East+Jefferson+Street,Brooksville,FL,34601\r\n\r\nForecast\nhttp://www.weather.com/weather/monthly/34601\r\n\r\nThe November 2023 Monthly Chapter Meeting for the Hernando County Chapter of Moms for Liberty is our annual meeting in which various business items will be voted on and discussed. We will not be having a guest speaker this month given the packed agenda but will be allowing all valid school board candidates who are pre-filed or filed with the Hernando County Supervisor of Elections to speak for 2 minutes each.Attendance at this meeting is limited to only active members of the Chapter, invited guests, or those who have RSVP'd. Please note that this is a private meeting and permitted attendance is at sole the discretion of the Chapter Leadership. If you would like to RSVP to this event please email momsforlibertyhernando@gmail.com--- This iCal file does *NOT* confirm registration.Event details subject to change. ---\r\n\r\n--- By Tendenci - The Open Source AMS for Associations ---\r\n
X-ALT-DESC;FMTTYPE=text/html:<div>--- This iCal file does *NOT* confirm registration.Event details subject to change. ---</div><h1>Event Title: Monthly Chapter Meeting</h1><div>https://portal.momsforliberty.org/events/1977/</div><br /><div>When: Nov 02, 2023 18:00 PM UTC</div><div>Speaker: No Speaker this Month - Annual Meeting</div><br />Coney Island - Side Party Room (Members and Guests Only)<br />1112 East Jefferson Street<br />Brooksville, FL 34601<br /><div>http://maps.google.com/maps?q=1112+East+Jefferson+Street,Brooksville,FL,34601</div><br /><div>Forecast: http://www.weather.com/weather/monthly/34601</div><br /><br /><div><p>The November 2023 Monthly Chapter Meeting for the Hernando County Chapter of Moms for Liberty is our annual meeting in which various business items will be voted on and discussed. We will not be having a guest speaker this month given the packed agenda but will be allowing all valid school board candidates who are pre-filed or filed with the Hernando County Supervisor of Elections to speak for 2 minutes each.<br /><br />Attendance at this meeting is limited to only active members of the Chapter, invited guests, or those who have RSVP'd. Please note that this is a private meeting and permitted attendance is at sole the discretion of the Chapter Leadership. If you would like to RSVP to this event please email <a href="mailto:momsforlibertyhernando@gmail.com">momsforlibertyhernando@gmail.com</a></p></div><div>--- This iCal file does *NOT* confirm registration.Event details subject to change. ---</div><div>--- Tendenci&reg\; Software by <a href="https://www.tendenci.com">tendenci.com</a> - The Open Source AMS for Associations ---</div>
SUMMARY:Monthly Chapter Meeting
PRIORITY:5
CLASS:PUBLIC
BEGIN:VALARM
TRIGGER:-PT30M
ACTION:DISPLAY
DESCRIPTION:Reminder
END:VALARM
END:VEVENT
END:VCALENDAR
