BEGIN:VCALENDAR
PRODID:-//Tendenci - The Open Source AMS for Associations//Tendenci Codebase 12 MIMEDIR//EN
VERSION:2.0
METHOD:PUBLISH
BEGIN:VEVENT
DTSTAMP:20260424T015353Z
ORGANIZER:Kim Georgeton
DTSTART:20231128T233000Z
DTEND:20231129T003000Z
LOCATION:TBD
TRANSP:OPAQUE
SEQUENCE:0
UID:uid1994@portal.momsforliberty.org
DESCRIPTION:--- This iCal file does *NOT* confirm registration.\r\nEvent details subject to change. ---\r\nhttps://portal.momsforliberty.org/events/1994/\r\n\r\nEvent Title: November Monthly Member Meeting\r\nStart Date / Time: Nov 28, 2023 18:30 PM America/New_York\r\nLocation: TBD\r\nSpeaker: Olivia Krolczyk\r\nSpeaker Olivia Krolczyk\r\n \r\nMy name is Olivia Krolczyk and I am a 20 year old Chemistry major at the University of Cincinnati. After being unfairly silenced in my college class for using the term &ldquo\;biological woman&rdquo\; while writing about women&rsquo\;s sports, I have become a passionate advocate dedicated to preserving free speech and fairness in women&rsquo\;s sports. Although no longer an athlete, I competed for 9 years at both the high school and collegiate level, becoming a multi-event state athlete in cross country and track. My involvement with sports has led to speaking out against the challenges to the integrity of women&rsquo\;s sports and promoting equal opportunity for female athletes. Since joining this fight I have had the opportunity to shed light on the dangerous indoctrination and suppression of speech happening in our universities while speaking on multi-media news outlets across the country. As a proud American, I know that it is my duty to ensure that every voice is heard, especially when living in a time where the fundamental right to express dissenting perspectives is at stake.\r\n --- This iCal file does *NOT* confirm registration.Event details subject to change. ---\r\n\r\n--- By Tendenci - The Open Source AMS for Associations ---\r\n
X-ALT-DESC;FMTTYPE=text/html:<div>--- This iCal file does *NOT* confirm registration.Event details subject to change. ---</div><h1>Event Title: November Monthly Member Meeting</h1><div>https://portal.momsforliberty.org/events/1994/</div><br /><div>When: Nov 28, 2023 18:30 PM America/New_York</div><div>Speaker: Olivia Krolczyk</div><br /><div><div>Speaker Olivia Krolczyk</div>
<div>&nbsp\;</div>
<div>My name is Olivia Krolczyk and I am a 20 year old Chemistry major at the University of Cincinnati. After being unfairly silenced in my college class for using the term &ldquo\;biological woman&rdquo\; while writing about women&rsquo\;s sports, I have become a passionate advocate dedicated to preserving free speech and fairness in women&rsquo\;s sports. Although no longer an athlete, I competed for 9 years at both the high school and collegiate level, becoming a multi-event state athlete in cross country and track. My involvement with sports has led to speaking out against the challenges to the integrity of women&rsquo\;s sports and promoting equal opportunity for female athletes. Since joining this fight I have had the opportunity to shed light on the dangerous indoctrination and suppression of speech happening in our universities while speaking on multi-media news outlets across the country. As a proud American, I know that it is my duty to ensure that every voice is heard, especially when living in a time where the fundamental right to express dissenting perspectives is at stake.</div>
<p>&nbsp\;</p></div><div>--- This iCal file does *NOT* confirm registration.Event details subject to change. ---</div><div>--- Tendenci&reg\; Software by <a href="https://www.tendenci.com">tendenci.com</a> - The Open Source AMS for Associations ---</div>
SUMMARY:November Monthly Member Meeting
PRIORITY:5
CLASS:PUBLIC
BEGIN:VALARM
TRIGGER:-PT30M
ACTION:DISPLAY
DESCRIPTION:Reminder
END:VALARM
END:VEVENT
END:VCALENDAR
