BEGIN:VCALENDAR
PRODID:-//Tendenci - The Open Source AMS for Associations//Tendenci Codebase 12 MIMEDIR//EN
VERSION:2.0
METHOD:PUBLISH
BEGIN:VEVENT
DTSTAMP:20260422T142606Z
ORGANIZER:Alexis Spiegelman | Chapter Chair
DTSTART:20220110T053000Z
DTEND:20220110T073000Z
LOCATION:The Clever Cup Coffee Shop
TRANSP:OPAQUE
SEQUENCE:0
UID:uid201@portal.momsforliberty.org
DESCRIPTION:--- This iCal file does *NOT* confirm registration.\r\nEvent details subject to change. ---\r\nhttps://portal.momsforliberty.org/events/201/\r\n\r\nEvent Title: All Things New 2022 | Sarasota Sunday Social\r\nStart Date / Time: Jan 09, 2022 23:30 PM US/Central\r\nLocation: The Clever Cup Coffee Shop\r\nGoogle\r\nhttp://maps.google.com/maps?q=6530+Gateway+Avenue,Sarasota,FL,34231\r\n\r\nForecast\nhttp://www.weather.com/weather/monthly/34231\r\n\r\nPlease join us for "All Things New 2022"\r\nJanuary 9th @ 5:30 PM.\r\n\r\n \r\nJoin us as we welcome our new members, make some new friends, and prepare to elect our NEW SCHOOL BOARD on August 23, 2022!\r\nEnjoy some of The Clever Cup's delicious coffee, tea, and pastry offerings while supporting a liberty-minded local business, or help yourself to a complimentary glass of wine and light fare while you mix and mingle! \r\nPlease be sure to register. We hope to see you there!\r\n \r\n#LibertySRQ #parentsrights #UnitedWeStand #relentless--- This iCal file does *NOT* confirm registration.Event details subject to change. ---\r\n\r\n--- By Tendenci - The Open Source AMS for Associations ---\r\n
X-ALT-DESC;FMTTYPE=text/html:<div>--- This iCal file does *NOT* confirm registration.Event details subject to change. ---</div><h1>Event Title: All Things New 2022 | Sarasota Sunday Social</h1><div>https://portal.momsforliberty.org/events/201/</div><br /><div>When: Jan 09, 2022 23:30 PM US/Central</div><br />The Clever Cup Coffee Shop<br />6530 Gateway Avenue<br />Sarasota, FL 34231<br /><div>http://maps.google.com/maps?q=6530+Gateway+Avenue,Sarasota,FL,34231</div><br /><div>Forecast: http://www.weather.com/weather/monthly/34231</div><br /><br /><div><h1 style="text-align: center\;">Please join us for "All Things New 2022"</h1>
<h2 style="text-align: center\;">January 9th @ 5:30 PM.</h2>
<p><video style="display: block\; margin-left: auto\; margin-right: auto\;" controls="controls" width="500" height="250">
<source src="/files/821/" /></video><br /><span style="text-align: center\;">&nbsp\;</span></p>
<p style="text-align: center\;">Join us as we welcome our new members, make some new friends, and prepare to elect our NEW SCHOOL BOARD on August 23, 2022!</p>
<p style="text-align: center\;">Enjoy some of The Clever Cup's delicious coffee, tea, and pastry offerings while supporting a liberty-minded local business, or help yourself to a complimentary glass of wine and light fare while you mix and mingle!&nbsp\;</p>
<p style="text-align: center\;"><span style="font-size: 14px\;"><strong>Please be sure to register. We hope to see you there!</strong></span></p>
<p>&nbsp\;</p>
<p style="text-align: center\;">#LibertySRQ #parentsrights #UnitedWeStand #relentless</p></div><div>--- This iCal file does *NOT* confirm registration.Event details subject to change. ---</div><div>--- Tendenci&reg\; Software by <a href="https://www.tendenci.com">tendenci.com</a> - The Open Source AMS for Associations ---</div>
SUMMARY:All Things New 2022 | Sarasota Sunday Social
PRIORITY:5
CLASS:PUBLIC
BEGIN:VALARM
TRIGGER:-PT30M
ACTION:DISPLAY
DESCRIPTION:Reminder
END:VALARM
END:VEVENT
END:VCALENDAR
