BEGIN:VCALENDAR
PRODID:-//Tendenci - The Open Source AMS for Associations//Tendenci Codebase 12 MIMEDIR//EN
VERSION:2.0
METHOD:PUBLISH
BEGIN:VEVENT
DTSTAMP:20260421T194206Z
ORGANIZER:Moms for Liberty SC Legislative Committee Board
DTSTART:20240131T130000Z
DTEND:20240131T200000Z
LOCATION:South Carolina State House / lunch venue tba
TRANSP:OPAQUE
SEQUENCE:0
UID:uid2011@portal.momsforliberty.org
DESCRIPTION:--- This iCal file does *NOT* confirm registration.\r\nEvent details subject to change. ---\r\nhttps://portal.momsforliberty.org/events/2011/\r\n\r\nEvent Title: 2024 SC Moms for Liberty Legislative Day\r\nStart Date / Time: Jan 31, 2024 08:00 AM US/Eastern\r\nLocation: South Carolina State House / lunch venue tba\r\nGoogle\r\nhttp://maps.google.com/maps?q=Gervais+St+/+State+St,Columbia,SC,29208\r\n\r\nForecast\nhttp://www.weather.com/weather/monthly/29208\r\n\r\nThis is a day when we bring Moms for Liberty members and supporters from across the state together with our state Legislators.  We spend the day building relationships and educating each other on the different ways we can make necessary corrections to the public school system in order for our children to have brighter futures. \r\nIts a great time to fellowship with like-minded people.  Learn what others are doing and also how you can help.--- This iCal file does *NOT* confirm registration.Event details subject to change. ---\r\n\r\n--- By Tendenci - The Open Source AMS for Associations ---\r\n
X-ALT-DESC;FMTTYPE=text/html:<div>--- This iCal file does *NOT* confirm registration.Event details subject to change. ---</div><h1>Event Title: 2024 SC Moms for Liberty Legislative Day</h1><div>https://portal.momsforliberty.org/events/2011/</div><br /><div>When: Jan 31, 2024 08:00 AM US/Eastern</div><br />South Carolina State House / lunch venue tba<br />Gervais St / State St<br />Columbia, SC 29208<br /><div>http://maps.google.com/maps?q=Gervais+St+/+State+St,Columbia,SC,29208</div><br /><div>Forecast: http://www.weather.com/weather/monthly/29208</div><br /><br /><div><p>This is a day when we bring Moms for Liberty members and supporters from across the state together with our state Legislators.&nbsp\; We spend the day building relationships and educating each other on the different ways we can make necessary corrections to the public school system in order for our children to have brighter futures.&nbsp\;</p>
<p>Its a great time to fellowship with like-minded people.&nbsp\; Learn what others are doing and also how you can help.</p></div><div>--- This iCal file does *NOT* confirm registration.Event details subject to change. ---</div><div>--- Tendenci&reg\; Software by <a href="https://www.tendenci.com">tendenci.com</a> - The Open Source AMS for Associations ---</div>
SUMMARY:2024 SC Moms for Liberty Legislative Day
PRIORITY:5
CLASS:PUBLIC
BEGIN:VALARM
TRIGGER:-PT30M
ACTION:DISPLAY
DESCRIPTION:Reminder
END:VALARM
END:VEVENT
END:VCALENDAR
