BEGIN:VCALENDAR
PRODID:-//Tendenci - The Open Source AMS for Associations//Tendenci Codebase 12 MIMEDIR//EN
VERSION:2.0
METHOD:PUBLISH
BEGIN:VEVENT
DTSTAMP:20260421T201303Z
ORGANIZER:Moms for Liberty Howard County Maryland
DTSTART:20231127T233000Z
DTEND:20231128T013000Z
LOCATION:Location will be Emailed to you Upon Registration.
TRANSP:OPAQUE
SEQUENCE:0
UID:uid2016@portal.momsforliberty.org
DESCRIPTION:--- This iCal file does *NOT* confirm registration.\r\nEvent details subject to change. ---\r\nhttps://portal.momsforliberty.org/events/2016/\r\n\r\nEvent Title: November Chapter Meeting\r\nStart Date / Time: Nov 27, 2023 18:30 PM US/Eastern\r\nLocation: Location will be Emailed to you Upon Registration.\r\nSpeaker: Brady Oehler\r\nSpecial Guest Speaker Brady Oehler. Gays Against Groomers Washington DC Leader. Location will be emailed to you upon registration.--- This iCal file does *NOT* confirm registration.Event details subject to change. ---\r\n\r\n--- By Tendenci - The Open Source AMS for Associations ---\r\n
X-ALT-DESC;FMTTYPE=text/html:<div>--- This iCal file does *NOT* confirm registration.Event details subject to change. ---</div><h1>Event Title: November Chapter Meeting</h1><div>https://portal.momsforliberty.org/events/2016/</div><br /><div>When: Nov 27, 2023 18:30 PM US/Eastern</div><div>Speaker: Brady Oehler</div><br /><div><p>Special Guest Speaker Brady Oehler. Gays Against Groomers Washington DC Leader. Location will be emailed to you upon registration.</p></div><div>--- This iCal file does *NOT* confirm registration.Event details subject to change. ---</div><div>--- Tendenci&reg\; Software by <a href="https://www.tendenci.com">tendenci.com</a> - The Open Source AMS for Associations ---</div>
SUMMARY:November Chapter Meeting
PRIORITY:5
CLASS:PUBLIC
BEGIN:VALARM
TRIGGER:-PT30M
ACTION:DISPLAY
DESCRIPTION:Reminder
END:VALARM
END:VEVENT
END:VCALENDAR
