BEGIN:VCALENDAR
PRODID:-//Tendenci - The Open Source AMS for Associations//Tendenci Codebase 12 MIMEDIR//EN
VERSION:2.0
METHOD:PUBLISH
BEGIN:VEVENT
DTSTAMP:20260423T104516Z
ORGANIZER:
DTSTART:20231110T020000Z
DTEND:20231110T030000Z
LOCATION:
TRANSP:OPAQUE
SEQUENCE:0
UID:uid2018@portal.momsforliberty.org
DESCRIPTION:--- This iCal file does *NOT* confirm registration.\r\nEvent details subject to change. ---\r\nhttps://portal.momsforliberty.org/events/2018/\r\n\r\nEvent Title: General Chapter Meeting\r\nStart Date / Time: Nov 09, 2023 19:00 PM America/Denver\r\nLocation: \r\nGoogle\r\nhttp://maps.google.com/maps?q=3041+Paradise+Dr.,Casper,WY,82604\r\n\r\nForecast\nhttp://www.weather.com/weather/monthly/82604\r\n\r\n--- This iCal file does *NOT* confirm registration.Event details subject to change. ---\r\n\r\n--- By Tendenci - The Open Source AMS for Associations ---\r\n
X-ALT-DESC;FMTTYPE=text/html:<div>--- This iCal file does *NOT* confirm registration.Event details subject to change. ---</div><h1>Event Title: General Chapter Meeting</h1><div>https://portal.momsforliberty.org/events/2018/</div><br /><div>When: Nov 09, 2023 19:00 PM America/Denver</div><br /><br />3041 Paradise Dr.<br />Casper, WY 82604<br /><div>http://maps.google.com/maps?q=3041+Paradise+Dr.,Casper,WY,82604</div><br /><div>Forecast: http://www.weather.com/weather/monthly/82604</div><br /><br /><div></div><div>--- This iCal file does *NOT* confirm registration.Event details subject to change. ---</div><div>--- Tendenci&reg\; Software by <a href="https://www.tendenci.com">tendenci.com</a> - The Open Source AMS for Associations ---</div>
SUMMARY:General Chapter Meeting
PRIORITY:5
CLASS:PUBLIC
BEGIN:VALARM
TRIGGER:-PT30M
ACTION:DISPLAY
DESCRIPTION:Reminder
END:VALARM
END:VEVENT
END:VCALENDAR
