BEGIN:VCALENDAR
PRODID:-//Tendenci - The Open Source AMS for Associations//Tendenci Codebase 12 MIMEDIR//EN
VERSION:2.0
METHOD:PUBLISH
BEGIN:VEVENT
DTSTAMP:20260421T144044Z
ORGANIZER:Jamie Hinkle, Training Facilitator
DTSTART:20231129T003000Z
DTEND:20231129T013000Z
LOCATION:
TRANSP:OPAQUE
SEQUENCE:0
UID:uid2038@portal.momsforliberty.org
DESCRIPTION:--- This iCal file does *NOT* confirm registration.\r\nEvent details subject to change. ---\r\nhttps://portal.momsforliberty.org/events/2038/\r\n\r\nEvent Title: Winning With Women Voters\r\nStart Date / Time: Nov 28, 2023 19:30 PM US/Eastern\r\nLocation: \r\nSpeaker: Ellen Walter, The Walter Group\r\nJoin Ellen Walter, founder of The Walter Group, to discuss, "Winning With Women Voters." Ellen has over 30 years of political experience and believes women are the key to any successful campaign. She will discuss developing a comprehensive grassroots strategy to inform, energize and assist women voters.\r\nJOIN HERE\r\n \r\nThis training will be recorded and available to members through the Members Exclusives - Trainings page.--- This iCal file does *NOT* confirm registration.Event details subject to change. ---\r\n\r\n--- By Tendenci - The Open Source AMS for Associations ---\r\n
X-ALT-DESC;FMTTYPE=text/html:<div>--- This iCal file does *NOT* confirm registration.Event details subject to change. ---</div><h1>Event Title: Winning With Women Voters</h1><div>https://portal.momsforliberty.org/events/2038/</div><br /><div>When: Nov 28, 2023 19:30 PM US/Eastern</div><div>Speaker: Ellen Walter, The Walter Group</div><br /><div><p style="text-align: left\;">Join Ellen Walter, founder of The Walter Group, to discuss, "Winning With Women Voters." Ellen has over 30 years of political experience and believes women are the key to any successful campaign. She will discuss developing a comprehensive grassroots strategy to inform, energize and assist women voters.</p>
<p style="text-align: center\;"><a class="btn btn-default" href="https://portal.momsforliberty.org/training/" target="_blank" rel="noopener">JOIN HERE</a></p>
<p style="text-align: center\;">&nbsp\;</p>
<p style="text-align: left\;">This training will be recorded and available to members through the <a href="https://portal.momsforliberty.org/training/" target="_blank" rel="noopener">Members Exclusives - Trainings</a> page.</p></div><div>--- This iCal file does *NOT* confirm registration.Event details subject to change. ---</div><div>--- Tendenci&reg\; Software by <a href="https://www.tendenci.com">tendenci.com</a> - The Open Source AMS for Associations ---</div>
SUMMARY:Winning With Women Voters
PRIORITY:5
CLASS:PUBLIC
BEGIN:VALARM
TRIGGER:-PT30M
ACTION:DISPLAY
DESCRIPTION:Reminder
END:VALARM
END:VEVENT
END:VCALENDAR
