BEGIN:VCALENDAR
PRODID:-//Tendenci - The Open Source AMS for Associations//Tendenci Codebase 12 MIMEDIR//EN
VERSION:2.0
METHOD:PUBLISH
BEGIN:VEVENT
DTSTAMP:20260426T051629Z
ORGANIZER:
DTSTART:20231210T220000Z
DTEND:20231211T010000Z
LOCATION:
TRANSP:OPAQUE
SEQUENCE:0
UID:uid2039@portal.momsforliberty.org
DESCRIPTION:--- This iCal file does *NOT* confirm registration.\r\nEvent details subject to change. ---\r\nhttps://portal.momsforliberty.org/events/2039/\r\n\r\nEvent Title: Carroll County Public Schools (MD) Board of Education Meeting\r\nStart Date / Time: Dec 10, 2023 17:00 PM US/Eastern\r\nLocation: \r\nGoogle\r\nhttp://maps.google.com/maps?q=125+North+Court+Street,Westminster,MD,21157\r\n\r\nForecast\nhttp://www.weather.com/weather/monthly/21157\r\n\r\n--- This iCal file does *NOT* confirm registration.Event details subject to change. ---\r\n\r\n--- By Tendenci - The Open Source AMS for Associations ---\r\n
X-ALT-DESC;FMTTYPE=text/html:<div>--- This iCal file does *NOT* confirm registration.Event details subject to change. ---</div><h1>Event Title: Carroll County Public Schools (MD) Board of Education Meeting</h1><div>https://portal.momsforliberty.org/events/2039/</div><br /><div>When: Dec 10, 2023 17:00 PM US/Eastern</div><br /><br />125 North Court Street<br />Westminster, MD 21157<br /><div>http://maps.google.com/maps?q=125+North+Court+Street,Westminster,MD,21157</div><br /><div>Forecast: http://www.weather.com/weather/monthly/21157</div><br /><br /><div></div><div>--- This iCal file does *NOT* confirm registration.Event details subject to change. ---</div><div>--- Tendenci&reg\; Software by <a href="https://www.tendenci.com">tendenci.com</a> - The Open Source AMS for Associations ---</div>
SUMMARY:Carroll County Public Schools (MD) Board of Education Meeting
PRIORITY:5
CLASS:PUBLIC
BEGIN:VALARM
TRIGGER:-PT30M
ACTION:DISPLAY
DESCRIPTION:Reminder
END:VALARM
END:VEVENT
END:VCALENDAR
