BEGIN:VCALENDAR
PRODID:-//Tendenci - The Open Source AMS for Associations//Tendenci Codebase 12 MIMEDIR//EN
VERSION:2.0
METHOD:PUBLISH
BEGIN:VEVENT
DTSTAMP:20260423T051911Z
ORGANIZER:
DTSTART:20231121T233000Z
DTEND:20231122T010000Z
LOCATION:
TRANSP:OPAQUE
SEQUENCE:0
UID:uid2042@portal.momsforliberty.org
DESCRIPTION:--- This iCal file does *NOT* confirm registration.\r\nEvent details subject to change. ---\r\nhttps://portal.momsforliberty.org/events/2042/\r\n\r\nEvent Title: November Meeting\r\nStart Date / Time: Nov 21, 2023 18:30 PM US/Eastern\r\nLocation: \r\nJoin us for our last event of 2023!  Come anytime after 615 to check in and purchase merchandise.\r\nPlease bring a non perishable food item to donate for the holidays!\r\nGuests are welcome to attend one meeting as a preview. After that, application &amp\; approval of membership is required.--- This iCal file does *NOT* confirm registration.Event details subject to change. ---\r\n\r\n--- By Tendenci - The Open Source AMS for Associations ---\r\n
X-ALT-DESC;FMTTYPE=text/html:<div>--- This iCal file does *NOT* confirm registration.Event details subject to change. ---</div><h1>Event Title: November Meeting</h1><div>https://portal.momsforliberty.org/events/2042/</div><br /><div>When: Nov 21, 2023 18:30 PM US/Eastern</div><br /><div><p>Join us for our last event of 2023!&nbsp\; Come anytime after 615 to check in and purchase merchandise.</p>
<p>Please bring a non perishable food item to donate for the holidays!</p>
<p>Guests are welcome to attend one meeting as a preview. After that, application &amp\; approval of membership is required.</p></div><div>--- This iCal file does *NOT* confirm registration.Event details subject to change. ---</div><div>--- Tendenci&reg\; Software by <a href="https://www.tendenci.com">tendenci.com</a> - The Open Source AMS for Associations ---</div>
SUMMARY:November Meeting
PRIORITY:5
CLASS:PUBLIC
BEGIN:VALARM
TRIGGER:-PT30M
ACTION:DISPLAY
DESCRIPTION:Reminder
END:VALARM
END:VEVENT
END:VCALENDAR
