BEGIN:VCALENDAR
PRODID:-//Tendenci - The Open Source AMS for Associations//Tendenci Codebase 12 MIMEDIR//EN
VERSION:2.0
METHOD:PUBLISH
BEGIN:VEVENT
DTSTAMP:20260426T051931Z
ORGANIZER:
DTSTART:20231130T230000Z
DTEND:20231201T010000Z
LOCATION:
TRANSP:OPAQUE
SEQUENCE:0
UID:uid2055@portal.momsforliberty.org
DESCRIPTION:--- This iCal file does *NOT* confirm registration.\r\nEvent details subject to change. ---\r\nhttps://portal.momsforliberty.org/events/2055/\r\n\r\nEvent Title: D20 Board Meeting\r\nStart Date / Time: Nov 30, 2023 16:00 PM US/Mountain\r\nLocation: \r\nGoogle\r\nhttp://maps.google.com/maps?q=1110+Chapel+Hills+Dr,,Colorado Springs,CO,80920\r\n\r\nForecast\nhttp://www.weather.com/weather/monthly/80920\r\n\r\nMoms for Liberty candidates Amy Shandy and Derrick Wilborn will be sworn in at this meeting!--- This iCal file does *NOT* confirm registration.Event details subject to change. ---\r\n\r\n--- By Tendenci - The Open Source AMS for Associations ---\r\n
X-ALT-DESC;FMTTYPE=text/html:<div>--- This iCal file does *NOT* confirm registration.Event details subject to change. ---</div><h1>Event Title: D20 Board Meeting</h1><div>https://portal.momsforliberty.org/events/2055/</div><br /><div>When: Nov 30, 2023 16:00 PM US/Mountain</div><br /><br />1110 Chapel Hills Dr,<br />Colorado Springs, CO 80920<br /><div>http://maps.google.com/maps?q=1110+Chapel+Hills+Dr,,Colorado Springs,CO,80920</div><br /><div>Forecast: http://www.weather.com/weather/monthly/80920</div><br /><br /><div><p>Moms for Liberty candidates Amy Shandy and Derrick Wilborn will be sworn in at this meeting!</p></div><div>--- This iCal file does *NOT* confirm registration.Event details subject to change. ---</div><div>--- Tendenci&reg\; Software by <a href="https://www.tendenci.com">tendenci.com</a> - The Open Source AMS for Associations ---</div>
SUMMARY:D20 Board Meeting
PRIORITY:5
CLASS:PUBLIC
BEGIN:VALARM
TRIGGER:-PT30M
ACTION:DISPLAY
DESCRIPTION:Reminder
END:VALARM
END:VEVENT
END:VCALENDAR
