BEGIN:VCALENDAR
PRODID:-//Tendenci - The Open Source AMS for Associations//Tendenci Codebase 12 MIMEDIR//EN
VERSION:2.0
METHOD:PUBLISH
BEGIN:VEVENT
DTSTAMP:20260421T122257Z
ORGANIZER:
DTSTART:20231128T003000Z
DTEND:20231128T013000Z
LOCATION:Link to Virtual Event
TRANSP:OPAQUE
SEQUENCE:0
UID:uid2061@portal.momsforliberty.org
DESCRIPTION:--- This iCal file does *NOT* confirm registration.\r\nEvent details subject to change. ---\r\nhttps://portal.momsforliberty.org/events/2061/\r\n\r\nEvent Title: IF YOU HEARD WHAT I HEARD\r\nStart Date / Time: Nov 27, 2023 18:30 PM US/Central\r\nLocation: Link to Virtual Event\r\nSpeaker: Carolyn Siegel\r\n\r\n\r\n\r\n\r\nTHESE ARE THE TRUE STORIES OF HOLOCAUST SURVIVORS\r\n\r\n\r\n\r\n\r\n\r\n\r\n\r\n\r\nAS THEY WERE HEARD BY THE LAST GENERATION TO HEAR THE STORIES DIRECTLY FROM THEM - THEIR GRANDCHILDREN\r\n Carolyn Siegel, founder of "If You Heard What I Heard," will be the guest speaker at the next Moms For Liberty meeting at 6:30 on Monday, November 27 at the 2nd Street Community Center.\r\nSiegel will speak on the current state of Israel and the antisemitism Jews are currently facing in America, as well as around the world.\r\nSiegel is a third generation Holocaust survivor (the grandchild of Holocaust survivors).\r\n"We are the last generation to ever hear our grandparents&rsquo\; stories firsthand, over the course of decades of our lives. We are the witnesses to our grandparents&rsquo\; loss, physical and emotional scars, and the lucky beneficiaries of their resilience,&rdquo\; said Siegel.\r\nLearn more about the organization at www.ifyouheardwhatiheard.com.\r\n\r\n\r\n\r\n--- This iCal file does *NOT* confirm registration.Event details subject to change. ---\r\n\r\n--- By Tendenci - The Open Source AMS for Associations ---\r\n
X-ALT-DESC;FMTTYPE=text/html:<div>--- This iCal file does *NOT* confirm registration.Event details subject to change. ---</div><h1>Event Title: IF YOU HEARD WHAT I HEARD</h1><div>https://portal.momsforliberty.org/events/2061/</div><br /><div>When: Nov 27, 2023 18:30 PM US/Central</div><div>Speaker: Carolyn Siegel</div><br /><div><div class="fe-block fe-block-2a362a413fea865a6b54">
<div id="block-2a362a413fea865a6b54" class="sqs-block html-block sqs-block-html" data-block-type="2">
<div class="sqs-block-content">
<div class="sqs-html-content">
<h4><strong>THESE ARE THE TRUE STORIES OF HOLOCAUST SURVIVORS</strong></h4>
</div>
</div>
</div>
</div>
<div class="fe-block fe-block-009e6861bfa9f4a18b1d">
<div id="block-009e6861bfa9f4a18b1d" class="sqs-block html-block sqs-block-html" data-block-type="2">
<div class="sqs-block-content">
<div class="sqs-html-content">
<p class="">AS THEY WERE HEARD BY THE LAST GENERATION TO HEAR THE STORIES DIRECTLY FROM THEM -<strong> THEIR GRANDCHILDREN</strong></p>
<p class="">&nbsp\;Carolyn Siegel, founder of "If You Heard What I Heard," will be the guest speaker at the next&nbsp\;<a href="https://www.onfocus.news/local-moms-for-liberty-wood-county-chapter-of-moms-for-liberty-launched/" target="_blank" rel="noopener" data-saferedirecturl="https://www.google.com/url?q=https://www.onfocus.news/local-moms-for-liberty-wood-county-chapter-of-moms-for-liberty-launched/&amp\;source=gmail&amp\;ust=1701025819339000&amp\;usg=AOvVaw34li15Q8OeMGaVsG2-TI4f">Moms For Liberty</a>&nbsp\;meeting at 6:30 on Monday, November 27 at the 2nd Street Community Center.</p>
<p>Siegel will speak on the current state of Israel and the antisemitism Jews are currently facing in America, as well as around the world.</p>
<p>Siegel is a third generation Holocaust survivor (the grandchild of Holocaust survivors).</p>
<p>"We are the last generation to ever hear our grandparents&rsquo\; stories firsthand, over the course of decades of our lives. We are the witnesses to our grandparents&rsquo\; loss, physical and emotional scars, and the lucky beneficiaries of their resilience,&rdquo\; said Siegel.</p>
<p>Learn more about the organization at&nbsp\;<a href="http://www.ifyouheardwhatiheard.com/" target="_blank" rel="noopener" data-saferedirecturl="https://www.google.com/url?q=http://www.ifyouheardwhatiheard.com&amp\;source=gmail&amp\;ust=1701025819339000&amp\;usg=AOvVaw21PQnv8zUadoePI_BKFw5T">www.ifyouheardwhatiheard.com</a>.</p>
</div>
</div>
</div>
</div></div><div>--- This iCal file does *NOT* confirm registration.Event details subject to change. ---</div><div>--- Tendenci&reg\; Software by <a href="https://www.tendenci.com">tendenci.com</a> - The Open Source AMS for Associations ---</div>
SUMMARY:IF YOU HEARD WHAT I HEARD
PRIORITY:5
CLASS:PUBLIC
BEGIN:VALARM
TRIGGER:-PT30M
ACTION:DISPLAY
DESCRIPTION:Reminder
END:VALARM
END:VEVENT
END:VCALENDAR
