BEGIN:VCALENDAR
PRODID:-//Tendenci - The Open Source AMS for Associations//Tendenci Codebase 12 MIMEDIR//EN
VERSION:2.0
METHOD:PUBLISH
BEGIN:VEVENT
DTSTAMP:20260420T071237Z
ORGANIZER:
DTSTART:20231201T220000Z
DTEND:20231202T000000Z
LOCATION:
TRANSP:OPAQUE
SEQUENCE:0
UID:uid2071@portal.momsforliberty.org
DESCRIPTION:--- This iCal file does *NOT* confirm registration.\r\nEvent details subject to change. ---\r\nhttps://portal.momsforliberty.org/events/2071/\r\n\r\nEvent Title: Bradford Christmas Parade\r\nStart Date / Time: Dec 01, 2023 17:00 PM US/Eastern\r\nLocation: \r\nWe will be participating in the Bradford Chirstmas Parade on Main St. Friday December 1st at 6 p.m. \r\n \r\nMeet on chestnut street betweeen 5 and 5:30, we are toward the back of the parade in front of the Derrick City Fire Dept. --- This iCal file does *NOT* confirm registration.Event details subject to change. ---\r\n\r\n--- By Tendenci - The Open Source AMS for Associations ---\r\n
X-ALT-DESC;FMTTYPE=text/html:<div>--- This iCal file does *NOT* confirm registration.Event details subject to change. ---</div><h1>Event Title: Bradford Christmas Parade</h1><div>https://portal.momsforliberty.org/events/2071/</div><br /><div>When: Dec 01, 2023 17:00 PM US/Eastern</div><br /><div><p>We will be participating in the Bradford Chirstmas Parade on Main St. Friday December 1st at 6 p.m.&nbsp\;</p>
<p>&nbsp\;</p>
<p>Meet on chestnut street betweeen 5 and 5:30, we are toward the back of the parade in front of the Derrick City Fire Dept.&nbsp\;</p></div><div>--- This iCal file does *NOT* confirm registration.Event details subject to change. ---</div><div>--- Tendenci&reg\; Software by <a href="https://www.tendenci.com">tendenci.com</a> - The Open Source AMS for Associations ---</div>
SUMMARY:Bradford Christmas Parade
PRIORITY:5
CLASS:PUBLIC
BEGIN:VALARM
TRIGGER:-PT30M
ACTION:DISPLAY
DESCRIPTION:Reminder
END:VALARM
END:VEVENT
END:VCALENDAR
