BEGIN:VCALENDAR
PRODID:-//Tendenci - The Open Source AMS for Associations//Tendenci Codebase 12 MIMEDIR//EN
VERSION:2.0
METHOD:PUBLISH
BEGIN:VEVENT
DTSTAMP:20260425T230031Z
ORGANIZER:
DTSTART:20240116T233000Z
DTEND:20240117T013000Z
LOCATION:
TRANSP:OPAQUE
SEQUENCE:0
UID:uid2087@portal.momsforliberty.org
DESCRIPTION:--- This iCal file does *NOT* confirm registration.\r\nEvent details subject to change. ---\r\nhttps://portal.momsforliberty.org/events/2087/\r\n\r\nEvent Title: Chapter Meeting\r\nStart Date / Time: Jan 16, 2024 18:30 PM America/New_York\r\nLocation: \r\nJoin us for our first official chapter meeting! We will discuss our plans for 2024, Ramona Bessinger will share information about an upcoming event with a celebrity speaker in RI, and Robert Chiaradio Jr. will be our honored first speaker!\r\nThe Washington County -RI chapter will be providing handcrafted artisan pizza courtesy of our venue. A $10 donation is suggested to offset the cost, but not required. \r\nTo ensure your invitation, become a member of the Washington County, RI chapter. Register for this event using your Moms For Liberty ID found on your profile page. You must complete the registration! An email will be sent to your email address with the RSVP information as the event date approaches.--- This iCal file does *NOT* confirm registration.Event details subject to change. ---\r\n\r\n--- By Tendenci - The Open Source AMS for Associations ---\r\n
X-ALT-DESC;FMTTYPE=text/html:<div>--- This iCal file does *NOT* confirm registration.Event details subject to change. ---</div><h1>Event Title: Chapter Meeting</h1><div>https://portal.momsforliberty.org/events/2087/</div><br /><div>When: Jan 16, 2024 18:30 PM America/New_York</div><br /><div><p>Join us for our first official chapter meeting! We will discuss our plans for 2024, Ramona Bessinger will share information about an upcoming event with a celebrity speaker in RI, and Robert Chiaradio Jr. will be our honored first speaker!</p>
<p><br />The Washington County -RI chapter will be providing handcrafted artisan pizza courtesy of our venue. A $10 donation is suggested to offset the cost, but not required. <br /><br /></p>
<p>To ensure your invitation, become a member of the Washington County, RI chapter. Register for this event using your Moms For Liberty ID found on your profile page. <span style="background-color: #ffff00\;">You must complete the registration!</span> An email will be sent to your email address with the RSVP information as the event date approaches.</p></div><div>--- This iCal file does *NOT* confirm registration.Event details subject to change. ---</div><div>--- Tendenci&reg\; Software by <a href="https://www.tendenci.com">tendenci.com</a> - The Open Source AMS for Associations ---</div>
SUMMARY:Chapter Meeting
PRIORITY:5
CLASS:PUBLIC
BEGIN:VALARM
TRIGGER:-PT30M
ACTION:DISPLAY
DESCRIPTION:Reminder
END:VALARM
END:VEVENT
END:VCALENDAR
