BEGIN:VCALENDAR
PRODID:-//Tendenci - The Open Source AMS for Associations//Tendenci Codebase 12 MIMEDIR//EN
VERSION:2.0
METHOD:PUBLISH
BEGIN:VEVENT
DTSTAMP:20260425T230025Z
ORGANIZER:
DTSTART:20231211T223000Z
DTEND:20231212T003000Z
LOCATION:Talbot Education Center
TRANSP:OPAQUE
SEQUENCE:0
UID:uid2102@portal.momsforliberty.org
DESCRIPTION:--- This iCal file does *NOT* confirm registration.\r\nEvent details subject to change. ---\r\nhttps://portal.momsforliberty.org/events/2102/\r\n\r\nEvent Title: Talbot County Board of Education Work Session/Meeting\r\nStart Date / Time: Dec 11, 2023 17:30 PM America/New_York\r\nLocation: Talbot Education Center\r\nGoogle\r\nhttp://maps.google.com/maps?q=12+Magnolia+Street,Easton,21601\r\n\r\nForecast\nhttp://www.weather.com/weather/monthly/21601\r\n\r\nThe Talbot County Board of Education will have a work session at the Talbot Education Center on December 11, 2023 at 5:30 p.m. Agenda can be found here: talbotschools-md.granicus.com/GeneratedAgendaViewer.php?view_id=1&amp\;event_id=243\r\nThe regular Board of Education meeting will be on Wednesday, December 13 at 6:30 p.m. No agenda is available yet. \r\n \r\n --- This iCal file does *NOT* confirm registration.Event details subject to change. ---\r\n\r\n--- By Tendenci - The Open Source AMS for Associations ---\r\n
X-ALT-DESC;FMTTYPE=text/html:<div>--- This iCal file does *NOT* confirm registration.Event details subject to change. ---</div><h1>Event Title: Talbot County Board of Education Work Session/Meeting</h1><div>https://portal.momsforliberty.org/events/2102/</div><br /><div>When: Dec 11, 2023 17:30 PM America/New_York</div><br />Talbot Education Center<br />12 Magnolia Street<br /> 21601<br /><div>http://maps.google.com/maps?q=12+Magnolia+Street,Easton,21601</div><br /><div>Forecast: http://www.weather.com/weather/monthly/21601</div><br /><br /><div><p>The Talbot County Board of Education will have a work session at the Talbot Education Center on December 11, 2023 at 5:30 p.m. Agenda can be found here:&nbsp\;<a href="https://talbotschools-md.granicus.com/GeneratedAgendaViewer.php?view_id=1&amp\;event_id=243">talbotschools-md.granicus.com/GeneratedAgendaViewer.php?view_id=1&amp\;event_id=243</a></p>
<p>The regular Board of Education meeting will be on Wednesday, December 13 at 6:30 p.m. No agenda is available yet.&nbsp\;</p>
<p>&nbsp\;</p>
<p>&nbsp\;</p></div><div>--- This iCal file does *NOT* confirm registration.Event details subject to change. ---</div><div>--- Tendenci&reg\; Software by <a href="https://www.tendenci.com">tendenci.com</a> - The Open Source AMS for Associations ---</div>
SUMMARY:Talbot County Board of Education Work Session/Meeting
PRIORITY:5
CLASS:PUBLIC
BEGIN:VALARM
TRIGGER:-PT30M
ACTION:DISPLAY
DESCRIPTION:Reminder
END:VALARM
END:VEVENT
END:VCALENDAR
