BEGIN:VCALENDAR
PRODID:-//Tendenci - The Open Source AMS for Associations//Tendenci Codebase 12 MIMEDIR//EN
VERSION:2.0
METHOD:PUBLISH
BEGIN:VEVENT
DTSTAMP:20260420T002802Z
ORGANIZER:
DTSTART:20240105T230000Z
DTEND:20240107T180000Z
LOCATION:
TRANSP:OPAQUE
SEQUENCE:0
UID:uid2105@portal.momsforliberty.org
DESCRIPTION:--- This iCal file does *NOT* confirm registration.\r\nEvent details subject to change. ---\r\nhttps://portal.momsforliberty.org/events/2105/\r\n\r\nEvent Title: Chapter Officer Retreat\r\nStart Date / Time: Jan 05, 2024 17:00 PM America/Chicago\r\nLocation: \r\nJoin us as we prepare for a successful 2024. \r\nParticipants must be members and elected or appointed OFFICERS of the Williamson County, TX Chapter of Moms for Liberty. \r\nDetails will be shared privately.--- This iCal file does *NOT* confirm registration.Event details subject to change. ---\r\n\r\n--- By Tendenci - The Open Source AMS for Associations ---\r\n
X-ALT-DESC;FMTTYPE=text/html:<div>--- This iCal file does *NOT* confirm registration.Event details subject to change. ---</div><h1>Event Title: Chapter Officer Retreat</h1><div>https://portal.momsforliberty.org/events/2105/</div><br /><div>When: Jan 05, 2024 17:00 PM America/Chicago</div><br /><div><p>Join us as we prepare for a successful 2024.&nbsp\;</p>
<p>Participants must be members and elected or appointed OFFICERS of the Williamson County, TX Chapter of Moms for Liberty.&nbsp\;</p>
<p>Details will be shared privately.</p></div><div>--- This iCal file does *NOT* confirm registration.Event details subject to change. ---</div><div>--- Tendenci&reg\; Software by <a href="https://www.tendenci.com">tendenci.com</a> - The Open Source AMS for Associations ---</div>
SUMMARY:Chapter Officer Retreat
PRIORITY:5
CLASS:PUBLIC
BEGIN:VALARM
TRIGGER:-PT30M
ACTION:DISPLAY
DESCRIPTION:Reminder
END:VALARM
END:VEVENT
END:VCALENDAR
