BEGIN:VCALENDAR
PRODID:-//Tendenci - The Open Source AMS for Associations//Tendenci Codebase 12 MIMEDIR//EN
VERSION:2.0
METHOD:PUBLISH
BEGIN:VEVENT
DTSTAMP:20260425T235434Z
ORGANIZER:
DTSTART:20231212T183000Z
DTEND:20231212T203000Z
LOCATION:
TRANSP:OPAQUE
SEQUENCE:0
UID:uid2107@portal.momsforliberty.org
DESCRIPTION:--- This iCal file does *NOT* confirm registration.\r\nEvent details subject to change. ---\r\nhttps://portal.momsforliberty.org/events/2107/\r\n\r\nEvent Title: Seminole County Commission Meeting\r\nStart Date / Time: Dec 12, 2023 13:30 PM US/Eastern\r\nLocation: \r\nGoogle\r\nhttp://maps.google.com/maps?q=1101+E.+First+St,Sanford,FL,32771\r\n\r\nForecast\nhttp://www.weather.com/weather/monthly/32771\r\n\r\nCALL TO ACTION:\r\n \r\nWe recently learned through a public records request (attached) that Semiole County has been paying over $3,500 in combined annual organizational and staff dues to the radical American Library Association (ALA) and its state chapter the Florida Library Association. The ALA has become notorious for promoting Drag Queen Story Hours and explicit LGBT materials to children nationwide. Its current president is a self-proclaimed "Marxist lesbian" who has called for "queering the catalog" and has said libraries "need to be a site of socialist organizing."\r\n \r\nWE HAVE AN OPPORTUNITY TO STOP THIS, BUT WE NEED PEOPLE TO EMAIL COMMISSIONERS and also attend the Seminole County Commission meeting on Tuesday, Dec. 12 to speak during Public Comment to urge commissioners to DEFUND THE ALA and its state chapter, the Florida Library Association.  \r\n \r\nThe meeting will be held on Tuesday, Dec. 12, at 1:30 p.m. (with the opportunity for Public Comment coming at the end of the meeting just before adjournment) at the Seminole County Services Building, 1101 E. First Street in Sanford, FL 32771. The Public Input period is at the end of the meeting just before adjournment. Please be there if you can, and use any part of the email message below as your Talking Points.\r\n \r\nALSO, please email the message below TODAY to the commission at the email addresses listed. Remember to sign your name at the bottom of the message.\r\n \r\nBob Dallari &lt\;sbrown02@seminolecountyfl.gov&gt\;,Jay Zembower &lt\;dschafer@seminolecountyfl.gov&gt\;,Lee Constantine &lt\;bflores@seminolecountyfl.gov&gt\;,Amy Lockhart &lt\;prawlings@seminolecountyfl.gov&gt\;,Andrea Herr &lt\;mbarker@seminolecountyfl.gov&gt\;\r\n \r\n \r\nDear Commissioners, \r\n \r\nI recently learned that Seminole County has been paying over $3,500 in annual membership dues to the radical American Library Association (ALA) and its state chapter the Florida Library Association (FLA). I urge you to have our county join the growing number of counties around the state that have terminated their memberships in the ALA, including Citrus, Hernando, Collier, Lee, Sarasota, Pasco, Santa Rosa, Lake, St. Lucie, Manatee and Hillsborough counties.\r\n \r\nThe ALA has become notorious for its aggressive promotion of "Drag Queen Story Hours" and sexually explicit LGBT materials targeting children, along with other leftist ideological agendas.  \r\n \r\nThe ALA's current president is self-proclaimed "Marxist lesbian" Emily Drabinski, who has said libraries "need to be a site of socialist organizing" and has used her position to champion the "queering" of public libraries.\r\n \r\nBut the ALA&rsquo\;s radical agenda of sexualizing children goes back years before Drabinski&rsquo\;s presidency. Over a decade ago, the ALA started the Rainbow Project Book List. This recommended reading list for children aggressively pushes alternative sexual lifestyles and "gender fluidity" themes on children as young as 3 months old, with titles such as Two Grooms on a Cake for ages 6 to 9\; The True Story of a Boy Named Penelope for ages 4 to 8, which celebrates transgenderism in children\; and Bye Bye Binary, for ages 3 months to 4 years, which encourages "dismantling gender norms" from infancy.\r\n \r\nThe ALA has used its influence to promote books that not only push gender ideology indoctrination on children, but outright pornographic content. The ALA&rsquo\;s so-called &ldquo\;Banned Books List&rdquo\; celebrates these pornographic books by pushing the narrative that efforts to keep them away from children and out of school libraries are a form of censorship that must be resisted. The ALA actually encourages libraries during so-called "Banned Books Week" to promote these books on posters and conspicuously placed display cases in public and school libraries to encourage children to check them out. These books include Gender Queer, which includes graphic depictions of teens engaging in oral sex\; Lawn Boy, which depicts sex between men and children\; and Beyond Magenta, which includes a graphic description of a 6-year-old performing oral sex on multiple men. The ALA coaches librarians to push back on parents who object to these pornographic materials being made available to their children by casting them as villains and &ldquo\;book banners.&rdquo\; Drabinski's designated successor as ALA president, Cindy Hohl, who will start her term in July 2024, can be expected to aggressively carry on this insidious agenda given the fact that she is the current treasurer of the "Freedom to Read Foundation," which is behind the "Banned Books List" promoting these pornographic materials to children.\r\n \r\nThe ALA has been encouraging the expansion of Drag Queen Story Hours in libraries for over five years. The ALA&rsquo\;s website devotes an entire page to resources to help librarians plan drag queen story hours to encourage children to explore what they call their "gender fluidity."\r\n \r\nThe other side will claim this is about censorship, but it's the ALA that's doing the censoring. Sen. Marco Rubio has rightly called for ending all government funding to the ALA and conducting an investigation into its efforts to censor and discriminate against Christian author and actor Kirk Cameron and his publisher Brave Books. When Cameron attempted to organize a national family-friendly story hour on Aug. 5 in libraries across the country, Deborah Caldwell-Stone, the director of the ALA&rsquo\;s Office for Intellectual Freedom, coached librarians on how to &ldquo\;invent programming&rdquo\; for that day so library reading rooms would not be available for the event.\r\n \r\nThe Florida Department of State's Division of Library &amp\; Information Services recently announced it will not accept any grants with project activities associated with the ALA or its state chapter the Florida Library Association. Several other state libraries and counties outside of Florida also have severed ties with the ALA, including the Montana, Texas, Missouri, and South Carolina state libraries. \r\n \r\nYou can find several articles with more information about the ALA's radical agenda and its Marxist president here, here, here, and here. \r\n \r\nBy terminating dues membership in the ALA and its state chapter the Florida Library Association, our county will be sending a strong message that it is standing up to this radical and corrupt organization while adding momentum to the movement to defund the ALA across the state of Florida and the United States. \r\n \r\nI hope we can count on your support to stop paying dues to the ALA and the FLA. Please let me know. In the meantime, we would ask that the county hold off on any upcoming planned dues payments until this issue is voted on. \r\n \r\nThank you, and I look forward to your response!--- This iCal file does *NOT* confirm registration.Event details subject to change. ---\r\n\r\n--- By Tendenci - The Open Source AMS for Associations ---\r\n
X-ALT-DESC;FMTTYPE=text/html:<div>--- This iCal file does *NOT* confirm registration.Event details subject to change. ---</div><h1>Event Title: Seminole County Commission Meeting</h1><div>https://portal.momsforliberty.org/events/2107/</div><br /><div>When: Dec 12, 2023 13:30 PM US/Eastern</div><br /><br />1101 E. First St<br />Sanford, FL 32771<br /><div>http://maps.google.com/maps?q=1101+E.+First+St,Sanford,FL,32771</div><br /><div>Forecast: http://www.weather.com/weather/monthly/32771</div><br /><br /><div><div class="gmail_attr" dir="ltr"><strong>CALL TO ACTION:</strong></div>
<div class="gmail_attr" dir="ltr">&nbsp\;</div>
<div class="gmail_attr" dir="ltr">We recently learned through a public records request (attached) that Semiole County has been paying over $3,500 in combined annual organizational and staff dues to the radical American Library Association (ALA) and its state chapter the Florida Library Association. The ALA has become notorious for promoting Drag Queen Story Hours and explicit LGBT materials to children nationwide. Its current president is a self-proclaimed "Marxist lesbian" who has called for "queering the catalog" and has said libraries "need to be a site of socialist organizing."</div>
<div class="gmail_attr" dir="ltr"><strong>&nbsp\;</strong></div>
<div class="gmail_attr" dir="ltr"><strong>WE HAVE AN OPPORTUNITY TO STOP THIS, BUT WE NEED PEOPLE TO EMAIL COMMISSIONERS</strong>&nbsp\;and also attend the Seminole County Commission meeting on&nbsp\;<strong>Tuesday, Dec. 12&nbsp\;</strong>to speak during Public Comment to urge commissioners to&nbsp\;<strong>DEFUND THE ALA&nbsp\;</strong>and its state chapter, the Florida Library Association.&nbsp\;&nbsp\;</div>
<div class="gmail_attr" dir="ltr">&nbsp\;</div>
<div class="gmail_attr" dir="ltr">The meeting will be held on&nbsp\;<strong>Tuesday, Dec. 12, at 1:30 p.m.&nbsp\;</strong>(with the opportunity for Public Comment coming at the end of the meeting just before adjournment)<strong>&nbsp\;</strong>at<strong>&nbsp\;</strong>the Seminole County Services Building,&nbsp\;<a href="https://www.google.com/maps/dir//1101+E+1st+St,+Sanford,+FL+32771/@28.8107143,-81.2559272,17z/data=!4m9!4m8!1m0!1m5!1m1!1s0x88e71381bc0bc5c3:0x86db8bec150c2d43!2m2!1d-81.2559272!2d28.8107143!3e0?entry=ttu" target="_blank" rel="noopener" data-saferedirecturl="https://www.google.com/url?q=https://www.google.com/maps/dir//1101%2BE%2B1st%2BSt,%2BSanford,%2BFL%2B32771/@28.8107143,-81.2559272,17z/data%3D!4m9!4m8!1m0!1m5!1m1!1s0x88e71381bc0bc5c3:0x86db8bec150c2d43!2m2!1d-81.2559272!2d28.8107143!3e0?entry%3Dttu&amp\;source=gmail&amp\;ust=1702222982611000&amp\;usg=AOvVaw2Ry-GPcDc3AiAcX8jtA3jQ">1101 E. First Street in Sanford, FL 32771</a>. The<strong>&nbsp\;Public Input&nbsp\;</strong>period is at the end of the meeting just before adjournment.&nbsp\;Please be there if you can, and use any part of the email message below as your Talking Points.</div>
<div class="gmail_attr" dir="ltr">&nbsp\;</div>
<div class="gmail_attr"><strong>ALSO,</strong>&nbsp\;please email the message below<strong>&nbsp\;TODAY</strong>&nbsp\;to the commission at the email addresses listed. Remember to sign your name at the bottom of the message.</div>
<div class="gmail_attr" dir="ltr">&nbsp\;</div>
<div class="gmail_attr" dir="ltr">Bob Dallari &lt\;<a href="mailto:sbrown02@seminolecountyfl.gov" target="_blank" rel="noopener">sbrown02@seminolecountyfl.gov</a><wbr />&gt\;,<br />Jay Zembower &lt\;<a href="mailto:dschafer@seminolecountyfl.gov" target="_blank" rel="noopener">dschafer@seminolecountyfl.gov</a><wbr />&gt\;,<br />Lee Constantine &lt\;<a href="mailto:bflores@seminolecountyfl.gov" target="_blank" rel="noopener">bflores@seminolecountyfl.gov</a>&gt\;<wbr />,<br />Amy Lockhart &lt\;<a href="mailto:prawlings@seminolecountyfl.gov" target="_blank" rel="noopener">prawlings@seminolecountyfl.<wbr />gov</a>&gt\;,<br />Andrea Herr &lt\;<a href="mailto:mbarker@seminolecountyfl.gov" target="_blank" rel="noopener">mbarker@seminolecountyfl.gov</a>&gt\;</div>
<div class="gmail_attr" dir="ltr">&nbsp\;</div>
<div class="gmail_attr" dir="ltr">&nbsp\;</div>
<div class="gmail_attr" dir="ltr">Dear Commissioners,&nbsp\;</div>
<div class="gmail_attr" dir="ltr">&nbsp\;</div>
<div class="gmail_attr" dir="ltr">I recently learned that Seminole County has been paying over $3,500 in annual membership dues to the radical American Library Association (ALA) and its state chapter the Florida Library Association (FLA). I urge you to have our county join the growing number of counties around the state that have terminated their memberships in the ALA, including&nbsp\;<a href="https://www.lifesitenews.com/news/florida-county-cuts-ties-with-american-library-association-over-marxist-president-pornographic-books/" target="_blank" rel="noopener" data-saferedirecturl="https://www.google.com/url?q=https://www.lifesitenews.com/news/florida-county-cuts-ties-with-american-library-association-over-marxist-president-pornographic-books/&amp\;source=gmail&amp\;ust=1702222982611000&amp\;usg=AOvVaw3g4b3syCOWYZrMo8j4TZAA">Citrus</a>,&nbsp\;<a href="https://www.lifesitenews.com/news/another-florida-county-votes-not-to-renew-dues-with-left-wing-american-library-association/?utm_source=most_recent&amp\;utm_campaign=usa" target="_blank" rel="noopener" data-saferedirecturl="https://www.google.com/url?q=https://www.lifesitenews.com/news/another-florida-county-votes-not-to-renew-dues-with-left-wing-american-library-association/?utm_source%3Dmost_recent%26utm_campaign%3Dusa&amp\;source=gmail&amp\;ust=1702222982611000&amp\;usg=AOvVaw2j0_C3yxnOrsKfTCxM2109">Hernando</a><span style="color: #500050\;">,&nbsp\;</span><a href="https://flvoicenews.com/collier-county-commissioners-cut-ties-with-american-library-association/" target="_blank" rel="noopener" data-saferedirecturl="https://www.google.com/url?q=https://flvoicenews.com/collier-county-commissioners-cut-ties-with-american-library-association/&amp\;source=gmail&amp\;ust=1702222982611000&amp\;usg=AOvVaw1OFL7Jhd6I766-mcIERfwl">Collier</a>,&nbsp\;<a href="https://www.fortmyersbeachtalk.com/2023/11/08/lee-county-commissioners-vote-to-end-funding-for-american-library-association/" target="_blank" rel="noopener" data-saferedirecturl="https://www.google.com/url?q=https://www.fortmyersbeachtalk.com/2023/11/08/lee-county-commissioners-vote-to-end-funding-for-american-library-association/&amp\;source=gmail&amp\;ust=1702222982611000&amp\;usg=AOvVaw1v_rJ9IQf0WbEU8GCVUp_l">Lee</a>,&nbsp\;<a href="https://www.heraldtribune.com/story/news/local/sarasota/2023/11/14/sarasota-commissioners-urged-to-keep-ties-with-library-association/71565104007/" target="_blank" rel="noopener" data-saferedirecturl="https://www.google.com/url?q=https://www.heraldtribune.com/story/news/local/sarasota/2023/11/14/sarasota-commissioners-urged-to-keep-ties-with-library-association/71565104007/&amp\;source=gmail&amp\;ust=1702222982611000&amp\;usg=AOvVaw1leHZ83Q1WO4N4c6yZZd8r">Sarasota</a>, Pasco, Santa Rosa, Lake, St. Lucie, Manatee and&nbsp\;<a href="https://www.tampabay.com/news/hillsborough/2023/05/03/are-more-parental-controls-coming-hillsborough-libraries/" target="_blank" rel="noopener" data-saferedirecturl="https://www.google.com/url?q=https://www.tampabay.com/news/hillsborough/2023/05/03/are-more-parental-controls-coming-hillsborough-libraries/&amp\;source=gmail&amp\;ust=1702222982611000&amp\;usg=AOvVaw3jogvhf0tT1SFUT1AvX_1y">Hillsborough</a>&nbsp\;counties.</div>
<div class="gmail_attr" dir="ltr">&nbsp\;</div>
<div class="gmail_attr" dir="ltr">The ALA has become notorious for its aggressive promotion of "<a href="https://www.lifesitenews.com/news/watch-drag-queen-admits-hes-grooming-children-at-story-hour-events/" target="_blank" rel="noopener" data-saferedirecturl="https://www.google.com/url?q=https://www.lifesitenews.com/news/watch-drag-queen-admits-hes-grooming-children-at-story-hour-events/&amp\;source=gmail&amp\;ust=1702222982611000&amp\;usg=AOvVaw22urCJwaIU8YI622_Op-U5">Drag Queen Story Hours</a>" and sexually explicit LGBT materials targeting children, along with other leftist ideological agendas.&nbsp\;&nbsp\;</div>
<div class="gmail_attr" dir="ltr"><span style="color: #000000\;">&nbsp\;</span></div>
<div class="gmail_attr" dir="ltr"><span style="color: #000000\;">The ALA's current president is self-proclaimed&nbsp\;</span><a href="https://thefederalist.com/2023/08/26/report-library-associations-president-wants-to-stock-kids-shelves-with-lgbt-propaganda-and-porn/?utm_medium=email&amp\;utm_source=ae&amp\;utm_campaign=memail&amp\;seyid=85065?utm_campaign=ACTENGAGE" target="_blank" rel="noopener" data-saferedirecturl="https://www.google.com/url?q=https://thefederalist.com/2023/08/26/report-library-associations-president-wants-to-stock-kids-shelves-with-lgbt-propaganda-and-porn/?utm_medium%3Demail%26utm_source%3Dae%26utm_campaign%3Dmemail%26seyid%3D85065?utm_campaign%3DACTENGAGE&amp\;source=gmail&amp\;ust=1702222982611000&amp\;usg=AOvVaw1kUb0J4-1tDtIJKTktIuQU">"Marxist lesbian" Emily Drabinski</a>,&nbsp\;<span style="color: #000000\;">who has&nbsp\;said libraries "<a href="https://www.washingtontimes.com/news/2023/sep/28/emily-drabinskis-call-socialist-organizing-librari/" target="_blank" rel="noopener" data-saferedirecturl="https://www.google.com/url?q=https://www.washingtontimes.com/news/2023/sep/28/emily-drabinskis-call-socialist-organizing-librari/&amp\;source=gmail&amp\;ust=1702222982611000&amp\;usg=AOvVaw3HruKp6eybdh8DDrXjVPmd">need to be a site of socialist organizing</a>" and</span><span style="color: #000000\;">&nbsp\;has used&nbsp\;her position to champion the "queering" of public libraries.</span></div>
<div class="gmail_attr" dir="ltr"><span style="color: #000000\;">&nbsp\;</span></div>
<div class="gmail_attr" dir="ltr"><span style="color: #000000\;">But the ALA&rsquo\;s radical agenda of sexualizing children goes back years before Drabinski&rsquo\;s presidency. Over a decade ago, the ALA started the</span>&nbsp\;<a href="https://www.ala.org/awardsgrants/rainbow-project-book-list" target="_blank" rel="noopener" data-saferedirecturl="https://www.google.com/url?q=https://www.ala.org/awardsgrants/rainbow-project-book-list&amp\;source=gmail&amp\;ust=1702222982611000&amp\;usg=AOvVaw1164O6JPhV-ilDr7KG7OoH">Rainbow Project Book List</a>.&nbsp\;<span style="color: #000000\;">This recommended reading list for children aggressively pushes alternative sexual lifestyles and "gender fluidity" themes on children as young as 3 months old, with titles such as Two Grooms on a Cake for ages 6 to 9\; The True Story of a Boy Named Penelope for ages 4 to 8, which celebrates transgenderism in children\; and Bye Bye Binary, for ages 3 months to 4 years, which encourages "dismantling gender norms" from infancy.</span></div>
<div class="gmail_attr" dir="ltr"><span style="color: #000000\;">&nbsp\;</span></div>
<div class="gmail_attr" dir="ltr"><span style="color: #000000\;">The ALA has used its influence to promote books that not only push gender ideology indoctrination on children, but outright pornographic content. The ALA&rsquo\;s so-called</span>&nbsp\;<a href="https://www.ala.org/advocacy/bbooks/frequentlychallengedbooks/top10" target="_blank" rel="noopener" data-saferedirecturl="https://www.google.com/url?q=https://www.ala.org/advocacy/bbooks/frequentlychallengedbooks/top10&amp\;source=gmail&amp\;ust=1702222982611000&amp\;usg=AOvVaw0IK1W6WY8k8Tk_eIZcDOmB">&ldquo\;Banned Books List&rdquo\;</a>&nbsp\;<span style="color: #000000\;">celebrates these pornographic books by pushing the narrative that efforts to keep them away from children and</span>&nbsp\;<span style="color: #000000\;">out of school libraries are a form of censorship that must be resisted. The ALA actually encourages libraries during so-called "Banned Books Week" to promote these books on posters and conspicuously placed display cases in public and school libraries to encourage children to check them out. These books include Gender Queer, which includes graphic depictions of teens engaging in oral sex\; Lawn Boy, which depicts sex between men and children\; and Beyond Magenta, which includes a graphic description of a 6-year-old performing oral sex on multiple men. The ALA coaches librarians to push back on parents who object to these pornographic materials being made available to their children by casting them as villains and &ldquo\;book banners.&rdquo\; Drabinski's designated successor as ALA president, Cindy Hohl, who will start her term in July 2024, can be expected to aggressively carry on this insidious agenda given the fact that she is the current treasurer of the "Freedom to Read Foundation," which is behind the "Banned Books List" promoting these pornographic materials to children.</span></div>
<div class="gmail_attr" dir="ltr"><span style="color: #000000\;">&nbsp\;</span></div>
<div class="gmail_attr" dir="ltr"><span style="color: #000000\;">The ALA has been encouraging the expansion of</span>&nbsp\;<a href="https://www.lifesitenews.com/news/watch-drag-queen-admits-hes-grooming-children-at-story-hour-events/" target="_blank" rel="noopener" data-saferedirecturl="https://www.google.com/url?q=https://www.lifesitenews.com/news/watch-drag-queen-admits-hes-grooming-children-at-story-hour-events/&amp\;source=gmail&amp\;ust=1702222982611000&amp\;usg=AOvVaw22urCJwaIU8YI622_Op-U5">Drag Queen Story Hours</a>&nbsp\;<span style="color: #000000\;">in libraries for over five years. The ALA&rsquo\;s website devotes an</span>&nbsp\;<a href="https://www.ala.org/advocacy/libraries-respond-drag-queen-story-hour" target="_blank" rel="noopener" data-saferedirecturl="https://www.google.com/url?q=https://www.ala.org/advocacy/libraries-respond-drag-queen-story-hour&amp\;source=gmail&amp\;ust=1702222982611000&amp\;usg=AOvVaw1_A0OGu2iTE0Dwi304uvd7"><u>entire page</u></a>&nbsp\;<span style="color: #000000\;">to resources to help librarians plan drag queen story hours to encourage children to explore what they call their "gender fluidity."</span></div>
<div class="gmail_attr" dir="ltr">&nbsp\;</div>
<div class="gmail_attr">The other side will claim this is about censorship, but it's the ALA that's doing the censoring. Sen. Marco Rubio has rightly called for&nbsp\;<a href="https://www.rubio.senate.gov/rubioalaletterreligiousdiscrimination/" target="_blank" rel="noopener" data-saferedirecturl="https://www.google.com/url?q=https://www.rubio.senate.gov/rubioalaletterreligiousdiscrimination/&amp\;source=gmail&amp\;ust=1702222982611000&amp\;usg=AOvVaw21D-d4DN4pAK_vmKIxmoGk"><u><span style="color: #0000ff\;">ending all government funding</span></u></a>&nbsp\;to the ALA and conducting an investigation into its efforts to censor and discriminate against Christian author and actor Kirk Cameron and his publisher Brave Books. When Cameron attempted to organize a national family-friendly story hour on Aug. 5 in libraries across the country, Deborah Caldwell-Stone, the director of the ALA&rsquo\;s Office for Intellectual Freedom, coached librarians on how to &ldquo\;invent programming&rdquo\; for that day so library reading rooms would not be available for the event.</div>
<div class="gmail_attr" dir="ltr">&nbsp\;</div>
<div class="gmail_attr">The Florida Department of State's Division of Library &amp\; Information Services recently announced it will&nbsp\;<a href="https://www.wuwf.org/florida-news/2023-11-08/what-does-floridas-new-rule-on-the-american-library-association-mean-for-public-libraries" target="_blank" rel="noopener" data-saferedirecturl="https://www.google.com/url?q=https://www.wuwf.org/florida-news/2023-11-08/what-does-floridas-new-rule-on-the-american-library-association-mean-for-public-libraries&amp\;source=gmail&amp\;ust=1702222982611000&amp\;usg=AOvVaw0bp_UeAbLkBHDoF8YUdn6N">not accept any grants</a>&nbsp\;with project activities associated with the ALA or its state chapter the Florida Library Association. Several other state libraries and counties outside of Florida also have severed ties with the ALA, including the Montana, Texas, Missouri, and South Carolina state libraries.&nbsp\;</div>
<div class="gmail_attr" dir="ltr"><span style="color: #000000\;">&nbsp\;</span></div>
<div class="gmail_attr" dir="ltr"><span style="color: #000000\;">You can find several articles with more information about the ALA's radical agenda and its Marxist president</span>&nbsp\;<a href="https://www.lifesitenews.com/news/top-us-library-group-colludes-with-local-librarians-to-sneak-lgbt-content-to-kids/" target="_blank" rel="noopener" data-saferedirecturl="https://www.google.com/url?q=https://www.lifesitenews.com/news/top-us-library-group-colludes-with-local-librarians-to-sneak-lgbt-content-to-kids/&amp\;source=gmail&amp\;ust=1702222982612000&amp\;usg=AOvVaw1qpjxK2QBPGb2iCE8tkAxK"><u><span style="color: #0000ff\;">here</span></u></a><span style="color: #000000\;">,&nbsp\;</span><a href="https://www.foxnews.com/lifestyle/are-taxpayer-funds-used-block-kirk-camerons-public-library-event-gop-senators-want-answers" target="_blank" rel="noopener" data-saferedirecturl="https://www.google.com/url?q=https://www.foxnews.com/lifestyle/are-taxpayer-funds-used-block-kirk-camerons-public-library-event-gop-senators-want-answers&amp\;source=gmail&amp\;ust=1702222982612000&amp\;usg=AOvVaw0W1_Qo7P4WguDJhaJ5l8qp"><u>here</u></a><span style="color: #000000\;">,&nbsp\;<a href="https://thefederalist.com/2023/08/26/report-library-associations-president-wants-to-stock-kids-shelves-with-lgbt-propaganda-and-porn/" target="_blank" rel="noopener" data-saferedirecturl="https://www.google.com/url?q=https://thefederalist.com/2023/08/26/report-library-associations-president-wants-to-stock-kids-shelves-with-lgbt-propaganda-and-porn/&amp\;source=gmail&amp\;ust=1702222982612000&amp\;usg=AOvVaw30sl5HZikqqAgX1tqTZ-u3">here</a>,&nbsp\;</span><span style="color: #000000\;">and&nbsp\;<a href="https://thenewamerican.com/us/education/drag-queens-and-groomers-american-libraries-now-dens-of-iniquity/?mc_cid=c4b7cdd9a4" target="_blank" rel="noopener" data-saferedirecturl="https://www.google.com/url?q=https://thenewamerican.com/us/education/drag-queens-and-groomers-american-libraries-now-dens-of-iniquity/?mc_cid%3Dc4b7cdd9a4&amp\;source=gmail&amp\;ust=1702222982612000&amp\;usg=AOvVaw2s_hmBPd9Jk9i5jfGH298D">here</a>.&nbsp\;</span></div>
<div class="gmail_attr" dir="ltr">&nbsp\;</div>
<div class="gmail_attr" dir="ltr">By terminating dues membership in the ALA and its state chapter the Florida Library Association, our county will be sending a strong message that it is standing up to this radical and corrupt organization while adding momentum to the movement to defund the ALA across the state of Florida and the United States.&nbsp\;</div>
<div class="gmail_attr" dir="ltr">&nbsp\;</div>
<div class="gmail_attr" dir="ltr">I hope we can count on your support to stop paying dues to the ALA and the FLA. Please let me know.&nbsp\;<strong>In the meantime, we would ask that the county hold off on any upcoming planned dues payments until this issue is voted on.&nbsp\;</strong></div>
<div class="gmail_attr" dir="ltr">&nbsp\;</div>
<div class="gmail_attr" dir="ltr">Thank you, and I look forward to your response!</div></div><div>--- This iCal file does *NOT* confirm registration.Event details subject to change. ---</div><div>--- Tendenci&reg\; Software by <a href="https://www.tendenci.com">tendenci.com</a> - The Open Source AMS for Associations ---</div>
SUMMARY:Seminole County Commission Meeting
PRIORITY:5
CLASS:PUBLIC
BEGIN:VALARM
TRIGGER:-PT30M
ACTION:DISPLAY
DESCRIPTION:Reminder
END:VALARM
END:VEVENT
END:VCALENDAR
