BEGIN:VCALENDAR
PRODID:-//Tendenci - The Open Source AMS for Associations//Tendenci Codebase 12 MIMEDIR//EN
VERSION:2.0
METHOD:PUBLISH
BEGIN:VEVENT
DTSTAMP:20260422T130937Z
ORGANIZER:Jessica Tillmann
DTSTART:20240129T233000Z
DTEND:20240130T013000Z
LOCATION:Zoom
TRANSP:OPAQUE
SEQUENCE:0
UID:uid2144@portal.momsforliberty.org
DESCRIPTION:--- This iCal file does *NOT* confirm registration.\r\nEvent details subject to change. ---\r\nhttps://portal.momsforliberty.org/events/2144/\r\n\r\nEvent Title: Moms for Liberty - Seminole County, FL January Business Meeting\r\nStart Date / Time: Jan 29, 2024 18:30 PM US/Eastern\r\nLocation: Zoom\r\nSpeaker: Carl Tipton\r\nCome to our virtual Meeting and get to know a District 4 candidate. Carl Tipton will be joining us to discuss his canadacy. \r\n \r\nJessica Tillmann is inviting you to a scheduled Zoom meeting.\r\nTopic: M4L Seminole's Zoom MeetingTime: Jan 29, 2024 06:30 PM Eastern Time (US and Canada)\r\nJoin Zoom Meetinghttps://us06web.zoom.us/j/81335555644?pwd=5AsvbR3SImFnx5liTEvCWwaPZkgkkn.1\r\nMeeting ID: 813 3555 5644Passcode: 019834\r\n---\r\nOne tap mobile+13052241968,,81335555644#,,,,*019834# US+13092053325,,81335555644#,,,,*019834# US\r\n---\r\nDial by your location&bull\; +1 305 224 1968 US&bull\; +1 309 205 3325 US&bull\; +1 312 626 6799 US (Chicago)&bull\; +1 646 931 3860 US&bull\; +1 929 205 6099 US (New York)&bull\; +1 301 715 8592 US (Washington DC)&bull\; +1 689 278 1000 US&bull\; +1 719 359 4580 US&bull\; +1 253 205 0468 US&bull\; +1 253 215 8782 US (Tacoma)&bull\; +1 346 248 7799 US (Houston)&bull\; +1 360 209 5623 US&bull\; +1 386 347 5053 US&bull\; +1 507 473 4847 US&bull\; +1 564 217 2000 US&bull\; +1 669 444 9171 US&bull\; +1 669 900 6833 US (San Jose)\r\nMeeting ID: 813 3555 5644Passcode: 019834\r\nFind your local number: https://us06web.zoom.us/u/keB9PYR9yQ\r\n --- This iCal file does *NOT* confirm registration.Event details subject to change. ---\r\n\r\n--- By Tendenci - The Open Source AMS for Associations ---\r\n
X-ALT-DESC;FMTTYPE=text/html:<div>--- This iCal file does *NOT* confirm registration.Event details subject to change. ---</div><h1>Event Title: Moms for Liberty - Seminole County, FL January Business Meeting</h1><div>https://portal.momsforliberty.org/events/2144/</div><br /><div>When: Jan 29, 2024 18:30 PM US/Eastern</div><div>Speaker: Carl Tipton</div><br /><div><p>Come to our virtual Meeting and get to know a District 4 candidate. Carl Tipton will be joining us to discuss his canadacy.&nbsp\;</p>
<p>&nbsp\;</p>
<p>Jessica Tillmann is inviting you to a scheduled Zoom meeting.</p>
<p>Topic: M4L Seminole's Zoom Meeting<br />Time: Jan 29, 2024 06:30 PM Eastern Time (US and Canada)</p>
<p>Join Zoom Meeting<br />https://us06web.zoom.us/j/81335555644?pwd=5AsvbR3SImFnx5liTEvCWwaPZkgkkn.1</p>
<p>Meeting ID: 813 3555 5644<br />Passcode: 019834</p>
<p>---</p>
<p>One tap mobile<br />+13052241968,,81335555644#,,,,*019834# US<br />+13092053325,,81335555644#,,,,*019834# US</p>
<p>---</p>
<p>Dial by your location<br />&bull\; +1 305 224 1968 US<br />&bull\; +1 309 205 3325 US<br />&bull\; +1 312 626 6799 US (Chicago)<br />&bull\; +1 646 931 3860 US<br />&bull\; +1 929 205 6099 US (New York)<br />&bull\; +1 301 715 8592 US (Washington DC)<br />&bull\; +1 689 278 1000 US<br />&bull\; +1 719 359 4580 US<br />&bull\; +1 253 205 0468 US<br />&bull\; +1 253 215 8782 US (Tacoma)<br />&bull\; +1 346 248 7799 US (Houston)<br />&bull\; +1 360 209 5623 US<br />&bull\; +1 386 347 5053 US<br />&bull\; +1 507 473 4847 US<br />&bull\; +1 564 217 2000 US<br />&bull\; +1 669 444 9171 US<br />&bull\; +1 669 900 6833 US (San Jose)</p>
<p>Meeting ID: 813 3555 5644<br />Passcode: 019834</p>
<p>Find your local number: https://us06web.zoom.us/u/keB9PYR9yQ</p>
<p>&nbsp\;</p></div><div>--- This iCal file does *NOT* confirm registration.Event details subject to change. ---</div><div>--- Tendenci&reg\; Software by <a href="https://www.tendenci.com">tendenci.com</a> - The Open Source AMS for Associations ---</div>
SUMMARY:Moms for Liberty - Seminole County, FL January Business Meeting
PRIORITY:5
CLASS:PUBLIC
BEGIN:VALARM
TRIGGER:-PT30M
ACTION:DISPLAY
DESCRIPTION:Reminder
END:VALARM
END:VEVENT
END:VCALENDAR
