BEGIN:VCALENDAR
PRODID:-//Tendenci - The Open Source AMS for Associations//Tendenci Codebase 12 MIMEDIR//EN
VERSION:2.0
METHOD:PUBLISH
BEGIN:VEVENT
DTSTAMP:20260422T144512Z
ORGANIZER:Harford County Government
DTSTART:20240123T230000Z
DTEND:20240124T010000Z
LOCATION:
TRANSP:OPAQUE
SEQUENCE:0
UID:uid2192@portal.momsforliberty.org
DESCRIPTION:--- This iCal file does *NOT* confirm registration.\r\nEvent details subject to change. ---\r\nhttps://portal.momsforliberty.org/events/2192/\r\n\r\nEvent Title: Harford County Budget Town Hall\r\nStart Date / Time: Jan 23, 2024 18:00 PM America/New_York\r\nLocation: \r\nSpeaker: Harford County Executive, Bob Cassilly\r\nWatch live on our website or plan to attend Harford Community College: Darlington Hall - 401 Thomas Run Road, Bel Air at 6 p.m. on January 23, 2024 for County Executive Bob Cassilly's Budget Town Hall Meeting on your priorities for the next county budget. \r\n \r\nPlease send us your input at any time through the social media and email links to the right, or mail your comments to the county executive at 220 S. Main Street, Bel Air, MD, 21014.\r\n \r\nAdditional Information:\r\n\r\nCurrent Approved Budget\r\n--- This iCal file does *NOT* confirm registration.Event details subject to change. ---\r\n\r\n--- By Tendenci - The Open Source AMS for Associations ---\r\n
X-ALT-DESC;FMTTYPE=text/html:<div>--- This iCal file does *NOT* confirm registration.Event details subject to change. ---</div><h1>Event Title: Harford County Budget Town Hall</h1><div>https://portal.momsforliberty.org/events/2192/</div><br /><div>When: Jan 23, 2024 18:00 PM America/New_York</div><div>Speaker: Harford County Executive, Bob Cassilly</div><br /><div><p><strong>Watch live on our website or plan to attend Harford Community College: Darlington Hall - 401 Thomas Run Road, Bel Air at 6 p.m. on January 23, 2024 for County Executive Bob Cassilly's Budget Town Hall Meeting on your priorities for the next county budget.&nbsp\;<br /></strong></p>
<p>&nbsp\;</p>
<p>Please send us your input at any time through the social media and email links to the right, or mail your comments to the county executive at 220 S. Main Street, Bel Air, MD, 21014.</p>
<p>&nbsp\;</p>
<p>Additional Information:</p>
<ul role="presentation">
<li><a href="https://www.harfordcountymd.gov/3579/Approved-FY24-Budget">Current Approved Budget</a></li>
</ul></div><div>--- This iCal file does *NOT* confirm registration.Event details subject to change. ---</div><div>--- Tendenci&reg\; Software by <a href="https://www.tendenci.com">tendenci.com</a> - The Open Source AMS for Associations ---</div>
SUMMARY:Harford County Budget Town Hall
PRIORITY:5
CLASS:PUBLIC
BEGIN:VALARM
TRIGGER:-PT30M
ACTION:DISPLAY
DESCRIPTION:Reminder
END:VALARM
END:VEVENT
END:VCALENDAR
