BEGIN:VCALENDAR
PRODID:-//Tendenci - The Open Source AMS for Associations//Tendenci Codebase 12 MIMEDIR//EN
VERSION:2.0
METHOD:PUBLISH
BEGIN:VEVENT
DTSTAMP:20260422T234104Z
ORGANIZER:
DTSTART:20240205T230000Z
DTEND:20240206T003000Z
LOCATION:American Legion - Cecil Post 15
TRANSP:OPAQUE
SEQUENCE:0
UID:uid2202@portal.momsforliberty.org
DESCRIPTION:--- This iCal file does *NOT* confirm registration.\r\nEvent details subject to change. ---\r\nhttps://portal.momsforliberty.org/events/2202/\r\n\r\nEvent Title: Cecil County, MD Chapter Meeting\r\nStart Date / Time: Feb 05, 2024 18:00 PM America/New_York\r\nLocation: American Legion - Cecil Post 15\r\nGoogle\r\nhttp://maps.google.com/maps?q=129+West+Main+Street,Elkton,MD,21921\r\n\r\nForecast\nhttp://www.weather.com/weather/monthly/21921\r\n\r\nPlease join us to discuss the legislative agenda for 2024, as it relates to parental rights.--- This iCal file does *NOT* confirm registration.Event details subject to change. ---\r\n\r\n--- By Tendenci - The Open Source AMS for Associations ---\r\n
X-ALT-DESC;FMTTYPE=text/html:<div>--- This iCal file does *NOT* confirm registration.Event details subject to change. ---</div><h1>Event Title: Cecil County, MD Chapter Meeting</h1><div>https://portal.momsforliberty.org/events/2202/</div><br /><div>When: Feb 05, 2024 18:00 PM America/New_York</div><br />American Legion - Cecil Post 15<br />129 West Main Street<br />Elkton, MD 21921<br /><div>http://maps.google.com/maps?q=129+West+Main+Street,Elkton,MD,21921</div><br /><div>Forecast: http://www.weather.com/weather/monthly/21921</div><br /><br /><div><p>Please join us to discuss the&nbsp\;legislative agenda for 2024, as it relates to parental rights.</p></div><div>--- This iCal file does *NOT* confirm registration.Event details subject to change. ---</div><div>--- Tendenci&reg\; Software by <a href="https://www.tendenci.com">tendenci.com</a> - The Open Source AMS for Associations ---</div>
SUMMARY:Cecil County, MD Chapter Meeting
PRIORITY:5
CLASS:PUBLIC
BEGIN:VALARM
TRIGGER:-PT30M
ACTION:DISPLAY
DESCRIPTION:Reminder
END:VALARM
END:VEVENT
END:VCALENDAR
