BEGIN:VCALENDAR
PRODID:-//Tendenci - The Open Source AMS for Associations//Tendenci Codebase 12 MIMEDIR//EN
VERSION:2.0
METHOD:PUBLISH
BEGIN:VEVENT
DTSTAMP:20260423T022411Z
ORGANIZER:
DTSTART:20240213T230000Z
DTEND:20240214T000000Z
LOCATION:
TRANSP:OPAQUE
SEQUENCE:0
UID:uid2204@portal.momsforliberty.org
DESCRIPTION:--- This iCal file does *NOT* confirm registration.\r\nEvent details subject to change. ---\r\nhttps://portal.momsforliberty.org/events/2204/\r\n\r\nEvent Title: CCPS Citizens Advisory Committee Meeting\r\nStart Date / Time: Feb 13, 2024 18:00 PM America/New_York\r\nLocation: \r\nGoogle\r\nhttp://maps.google.com/maps?q=201+Booth+Street,Elkton,MD,21921\r\n\r\nForecast\nhttp://www.weather.com/weather/monthly/21921\r\n\r\nThe Citizens Advisory Committee (CAC) is an advisory group to the Board of Education of Cecil County, the policy-making body for the public schools, and will be convened as needed to address a purpose established by the Board President or CAC Chairperson on consensus of the Board. The CAC serves as an instrument of this Board with responsibility to research, discuss, advise, and advocate on behalf of the Board. The Board recognizes that a variety of perspectives will be helpful.CAC is responsible directly to the Board and will meet with the Board, the Superintendent, or staff members designated by the Superintendent as the need arises.  The role of the CAC will include:\r\n- Advising the Board and providing feedback from its point of view.- Assisting the school system in effective communications between the public and the Board.\r\n- Serving as advocates for the public schools.\r\n \r\nMeetings are open to the public.--- This iCal file does *NOT* confirm registration.Event details subject to change. ---\r\n\r\n--- By Tendenci - The Open Source AMS for Associations ---\r\n
X-ALT-DESC;FMTTYPE=text/html:<div>--- This iCal file does *NOT* confirm registration.Event details subject to change. ---</div><h1>Event Title: CCPS Citizens Advisory Committee Meeting</h1><div>https://portal.momsforliberty.org/events/2204/</div><br /><div>When: Feb 13, 2024 18:00 PM America/New_York</div><br /><br />201 Booth Street<br />Elkton, MD 21921<br /><div>http://maps.google.com/maps?q=201+Booth+Street,Elkton,MD,21921</div><br /><div>Forecast: http://www.weather.com/weather/monthly/21921</div><br /><br /><div><p>The Citizens Advisory Committee (CAC) is an advisory group to the Board of Education of Cecil County, the policy-making body for the public schools, and will be convened as needed to address a purpose established by the Board President or CAC Chairperson on consensus of the Board. The CAC serves as an instrument of this Board with responsibility to research, discuss, advise, and advocate on behalf of the Board.&nbsp\;The Board recognizes that a variety of perspectives will be helpful.<br /><br />CAC is responsible directly to the Board and will meet with the Board, the Superintendent, or staff members designated by the Superintendent as the need arises.&nbsp\; The role of the CAC will&nbsp\;include:</p>
<p><br />- Advising the Board and providing feedback from its point of view.<br />- Assisting the school system in effective communications between the public and the Board.</p>
<p>- Serving as advocates for the public schools.</p>
<p>&nbsp\;</p>
<p>Meetings are open to the public.</p></div><div>--- This iCal file does *NOT* confirm registration.Event details subject to change. ---</div><div>--- Tendenci&reg\; Software by <a href="https://www.tendenci.com">tendenci.com</a> - The Open Source AMS for Associations ---</div>
SUMMARY:CCPS Citizens Advisory Committee Meeting
PRIORITY:5
CLASS:PUBLIC
BEGIN:VALARM
TRIGGER:-PT30M
ACTION:DISPLAY
DESCRIPTION:Reminder
END:VALARM
END:VEVENT
END:VCALENDAR
