BEGIN:VCALENDAR
PRODID:-//Tendenci - The Open Source AMS for Associations//Tendenci Codebase 12 MIMEDIR//EN
VERSION:2.0
METHOD:PUBLISH
BEGIN:VEVENT
DTSTAMP:20260421T024611Z
ORGANIZER:
DTSTART:20241024T220000Z
DTEND:20241025T000000Z
LOCATION:Location will be sent upon registration.
TRANSP:OPAQUE
SEQUENCE:0
UID:uid2267@portal.momsforliberty.org
DESCRIPTION:--- This iCal file does *NOT* confirm registration.\r\nEvent details subject to change. ---\r\nhttps://portal.momsforliberty.org/events/2267/\r\n\r\nEvent Title: 🎃 October Monthly Meeting (Hernando County, FL)\r\nStart Date / Time: Oct 24, 2024 18:00 PM America/New_York\r\nLocation: Location will be sent upon registration.\r\nWe look forward to seeing you at our October monthly meeting 🎃! This month's meeting will be held on the third Thursday of the month to avoid conflicting with parents who are taking their children trick-or-treating on Halloween.\r\nThis meeting is open to ALL Hernando County M4L Members, their Guests, and any concerned citizen in Hernando County. Registration is required.\r\n👉👉 We are presently working on securing speakers for our Spring 2024 Meeting Schedule and once we have them set we will update our events 👈👈--- This iCal file does *NOT* confirm registration.Event details subject to change. ---\r\n\r\n--- By Tendenci - The Open Source AMS for Associations ---\r\n
X-ALT-DESC;FMTTYPE=text/html:<div>--- This iCal file does *NOT* confirm registration.Event details subject to change. ---</div><h1>Event Title: 🎃 October Monthly Meeting (Hernando County, FL)</h1><div>https://portal.momsforliberty.org/events/2267/</div><br /><div>When: Oct 24, 2024 18:00 PM America/New_York</div><br /><div><p>We look forward to seeing you at our October monthly meeting&nbsp\;🎃! This month's meeting will be held on the third Thursday of the month to avoid conflicting with parents who are taking their children trick-or-treating on Halloween.</p>
<p>This meeting is open to ALL Hernando County M4L Members, their Guests, and any concerned citizen in Hernando County. Registration is required.</p>
<p>👉👉 We are presently working on securing speakers for our Spring 2024 Meeting Schedule and once we have them set we will update our events&nbsp\;👈👈</p></div><div>--- This iCal file does *NOT* confirm registration.Event details subject to change. ---</div><div>--- Tendenci&reg\; Software by <a href="https://www.tendenci.com">tendenci.com</a> - The Open Source AMS for Associations ---</div>
SUMMARY:🎃 October Monthly Meeting (Hernando County, FL)
PRIORITY:5
CLASS:PUBLIC
BEGIN:VALARM
TRIGGER:-PT30M
ACTION:DISPLAY
DESCRIPTION:Reminder
END:VALARM
END:VEVENT
END:VCALENDAR
