BEGIN:VCALENDAR
PRODID:-//Tendenci - The Open Source AMS for Associations//Tendenci Codebase 12 MIMEDIR//EN
VERSION:2.0
METHOD:PUBLISH
BEGIN:VEVENT
DTSTAMP:20260421T225318Z
ORGANIZER:Moms for Liberty - Madison County, AL
DTSTART:20240405T230000Z
DTEND:20240406T020000Z
LOCATION:Black Patch Distillery
TRANSP:OPAQUE
SEQUENCE:0
UID:uid2339@portal.momsforliberty.org
DESCRIPTION:--- This iCal file does *NOT* confirm registration.\r\nEvent details subject to change. ---\r\nhttps://portal.momsforliberty.org/events/2339/\r\n\r\nEvent Title: Covenant Rescue Group\r\nStart Date / Time: Apr 05, 2024 18:00 PM America/Chicago\r\nLocation: Black Patch Distillery\r\nSpeaker: Jared Hudson/Covenant Rescue Group\r\nGoogle\r\nhttp://maps.google.com/maps?q=500+Lanier+Road+Suite+3,Madison,AL\r\n\r\nForecast\nhttp://www.weather.com/weather/monthly/\r\n\r\nJoins us for a discussion with Jared Hudson as he shares his story and the mission of Covenant Rescue Group (CRG). Jared and his team are working with law enforcement across the world to combat the horrors of human trafficking. Jared will also share ways that parents can protect their children from becoming victims of this horrific crime.\r\nCovenant Rescue Group (CRG) was founded in June 2019 by former US Navy SEAL Jared Hudson and his wife. They saw a lack of skills and funding to properly rescue victims and arrest criminals involved in human trafficking. Sharing a passion for children who fall victim to human trafficking globally, the decided to become active. They organized their passion, training, and expertise to being this wicked, organized enterprise to an end. \r\nTickets are $10. Food and non-alcoholic drinks will be included with admission. The intent of this event is to raise awareness across North Alabama about the rising concerns of human trafficking affecting our communities. All proceeds raised will be donated to Covenant Rescue Group. \r\nLearn more about Covenant Rescue Group here (https://www.covenantrescue.org/).--- This iCal file does *NOT* confirm registration.Event details subject to change. ---\r\n\r\n--- By Tendenci - The Open Source AMS for Associations ---\r\n
X-ALT-DESC;FMTTYPE=text/html:<div>--- This iCal file does *NOT* confirm registration.Event details subject to change. ---</div><h1>Event Title: Covenant Rescue Group</h1><div>https://portal.momsforliberty.org/events/2339/</div><br /><div>When: Apr 05, 2024 18:00 PM America/Chicago</div><div>Speaker: Jared Hudson/Covenant Rescue Group</div><br />Black Patch Distillery<br />500 Lanier Road Suite 3<br />Madison, AL<br /><div>http://maps.google.com/maps?q=500+Lanier+Road+Suite+3,Madison,AL</div><br /><div>Forecast: http://www.weather.com/weather/monthly/</div><br /><br /><div><p>Joins us for a discussion with Jared Hudson as he shares his story and the mission of Covenant Rescue Group (CRG). Jared and his team are working with law enforcement across the world to combat the horrors of human trafficking. Jared will also share ways that parents can protect their children from becoming victims of this horrific crime.</p>
<p>Covenant Rescue Group (CRG) was founded in June 2019 by former US Navy SEAL Jared Hudson and his wife. They saw a lack of skills and funding to properly rescue victims and arrest criminals involved in human trafficking. Sharing a passion for children who fall victim to human trafficking globally, the decided to become active. They organized their passion, training, and expertise to being this wicked, organized enterprise to an end.&nbsp\;</p>
<p>Tickets are $10. Food and non-alcoholic drinks will be included with admission. The intent of this event is to raise awareness across North Alabama about the rising concerns of human trafficking affecting our communities. All proceeds raised will be donated to Covenant Rescue Group.&nbsp\;</p>
<p>Learn more about Covenant Rescue Group here (<a href="https://www.covenantrescue.org/">https://www.covenantrescue.org/</a>).</p></div><div>--- This iCal file does *NOT* confirm registration.Event details subject to change. ---</div><div>--- Tendenci&reg\; Software by <a href="https://www.tendenci.com">tendenci.com</a> - The Open Source AMS for Associations ---</div>
SUMMARY:Covenant Rescue Group
PRIORITY:5
CLASS:PUBLIC
BEGIN:VALARM
TRIGGER:-PT30M
ACTION:DISPLAY
DESCRIPTION:Reminder
END:VALARM
END:VEVENT
END:VCALENDAR
